Workbook

Sheet التحليل العام للنتائج
H3: مدرسة: | J3: مدرسة معاذ بن جبل للتعليم الأساسي (5-12) | S3: تاريخ التحليل: | U3: 31/ 12/ 2023م | Z3: =L4 -> التربية الإسلامية
H4: تحليل نتائج الطلبة في مادة: | L4: التربية الإسلامية | O4: للفصل الدراسي: | R4: الأول | T4: من العام الدراسي: | V4: 2023/ 2024م
D7: الكشف العام لنتئج الطلبة في المادة لجميع المراحل التعلمية بالمدرسة | N7: نسبة القوة والضعف في المادة | S7: المخطط البياني للأداء العام لطلبة المدرسة في هذه المادة:
D8: الصف | E8: أ | F8: ب | G8: ج | H8: د | I8: هـ | J8: المقيدون | K8: الحالات | L8: نسبة النجاح | N8: الصف | O8: القوة | P8: التوسط | Q8: الضعف
D9: الأول | E9: =الأول!C18 -> 5 | F9: =الأول!D18 -> 4 | G9: =الأول!E18 -> 3 | H9: =الأول!F18 -> 2 | I9: =الأول!G18 -> 2 | J9: =IFERROR(SUM(E9:I9),"") -> 16 | K9: =IFERROR('حالة الطلبة في الفصول'!K8,"") -> 0 | L9: =IFERROR(SUM(E9:H9)/J9,"") -> 0.875 | N9: =D9 -> الأول | O9: =IFERROR(((E9+F9)/J9),"") -> 0.5625 | P9: =IFERROR(G9/J9,"") -> 0.1875 | Q9: =IFERROR(((H9+I9)-K9)/J9,"") -> 0.25
D10: الثاني | E10: =الثاني!C$18 -> 1 | F10: =الثاني!D$18 -> 1 | G10: =الثاني!E$18 -> 1 | H10: =الثاني!F$18 -> 1 | I10: =الثاني!G$18 -> 1 | J10: =IFERROR(SUM(E10:I10),"") -> 5 | K10: =IFERROR('حالة الطلبة في الفصول'!K9,"") -> 0 | L10: =IFERROR(SUM(E10:H10)/J10,"") -> 0.8 | N10: =D10 -> الثاني | O10: =IFERROR(((E10+F10)/J10),"") -> 0.4 | P10: =IFERROR(G10/J10,"") -> 0.2 | Q10: =IFERROR(((H10+I10)-K10)/J10,"") -> 0.4
D11: الثالث | E11: =الثالث!C$18 -> 2 | F11: =الثالث!D$18 -> 2 | G11: =الثالث!E$18 -> 7 | H11: =الثالث!F$18 -> 2 | I11: =الثالث!G$18 -> 2 | J11: =IFERROR(SUM(E11:I11),"") -> 15 | K11: =IFERROR('حالة الطلبة في الفصول'!K10,"") -> 0 | L11: =IFERROR(SUM(E11:H11)/J11,"") -> 0.86666667 | N11: =D11 -> الثالث | O11: =IFERROR(((E11+F11)/J11),"") -> 0.26666667 | P11: =IFERROR(G11/J11,"") -> 0.46666667 | Q11: =IFERROR(((H11+I11)-K11)/J11,"") -> 0.26666667
D12: الرابع | E12: =الرابع!C$18 -> 0 | F12: =الرابع!D$18 -> 0 | G12: =الرابع!E$18 -> 0 | H12: =الرابع!F$18 -> 0 | I12: =الرابع!G$18 -> 0 | J12: =IFERROR(SUM(E12:I12),"") -> 0 | K12: =IFERROR('حالة الطلبة في الفصول'!K11,"") -> 1 | L12: =IFERROR(SUM(E12:H12)/J12,"") | N12: =D12 -> الرابع | O12: =IFERROR(((E12+F12)/J12),"") | P12: =IFERROR(G12/J12,"") | Q12: =IFERROR(((H12+I12)-K12)/J12,"")
D13: الخامس | E13: =الخامس!C$23 -> 5 | F13: =الخامس!D$23 -> 4 | G13: =الخامس!E$23 -> 3 | H13: =الخامس!F$23 -> 2 | I13: =الخامس!G$23 -> 2 | J13: =IFERROR(SUM(E13:I13),"") -> 16 | K13: =IFERROR('حالة الطلبة في الفصول'!K12,"") -> 0 | L13: =IFERROR(SUM(E13:H13)/J13,"") -> 0.875 | N13: =D13 -> الخامس | O13: =IFERROR(((E13+F13)/J13),"") -> 0.5625 | P13: =IFERROR(G13/J13,"") -> 0.1875 | Q13: =IFERROR(((H13+I13)-K13)/J13,"") -> 0.25
D14: السادس | E14: =السادس!C$23 -> 2 | F14: =السادس!D$23 -> 2 | G14: =السادس!E$23 -> 3 | H14: =السادس!F$23 -> 4 | I14: =السادس!G$23 -> 5 | J14: =IFERROR(SUM(E14:I14),"") -> 16 | K14: =IFERROR('حالة الطلبة في الفصول'!K13,"") -> 0 | L14: =IFERROR(SUM(E14:H14)/J14,"") -> 0.6875 | N14: =D14 -> السادس | O14: =IFERROR(((E14+F14)/J14),"") -> 0.25 | P14: =IFERROR(G14/J14,"") -> 0.1875 | Q14: =IFERROR(((H14+I14)-K14)/J14,"") -> 0.5625
D15: السابع | E15: =السابع!C$23 -> 2 | F15: =السابع!D$23 -> 2 | G15: =السابع!E$23 -> 7 | H15: =السابع!F$23 -> 2 | I15: =السابع!G$23 -> 2 | J15: =IFERROR(SUM(E15:I15),"") -> 15 | K15: =IFERROR('حالة الطلبة في الفصول'!K14,"") -> 0 | L15: =IFERROR(SUM(E15:H15)/J15,"") -> 0.86666667 | N15: =D15 -> السابع | O15: =IFERROR(((E15+F15)/J15),"") -> 0.26666667 | P15: =IFERROR(G15/J15,"") -> 0.46666667 | Q15: =IFERROR(((H15+I15)-K15)/J15,"") -> 0.26666667
D16: الثامن | E16: =الثامن!C$23 -> 2 | F16: =الثامن!D$23 -> 2 | G16: =الثامن!E$23 -> 2 | H16: =الثامن!F$23 -> 2 | I16: =الثامن!G$23 -> 2 | J16: =IFERROR(SUM(E16:I16),"") -> 10 | K16: =IFERROR('حالة الطلبة في الفصول'!K15,"") -> 2 | L16: =IFERROR(SUM(E16:H16)/J16,"") -> 0.8 | N16: =D16 -> الثامن | O16: =IFERROR(((E16+F16)/J16),"") -> 0.4 | P16: =IFERROR(G16/J16,"") -> 0.2 | Q16: =IFERROR(((H16+I16)-K16)/J16,"") -> 0.2
D17: التاسع | E17: =التاسع!C$23 -> 2 | F17: =التاسع!D$23 -> 2 | G17: =التاسع!E$23 -> 2 | H17: =التاسع!F$23 -> 2 | I17: =التاسع!G$23 -> 2 | J17: =IFERROR(SUM(E17:I17),"") -> 10 | K17: =IFERROR('حالة الطلبة في الفصول'!K16,"") -> 0 | L17: =IFERROR(SUM(E17:H17)/J17,"") -> 0.8 | N17: =D17 -> التاسع | O17: =IFERROR(((E17+F17)/J17),"") -> 0.4 | P17: =IFERROR(G17/J17,"") -> 0.2 | Q17: =IFERROR(((H17+I17)-K17)/J17,"") -> 0.4
D18: العاشر | E18: =العاشر!C$23 -> 2 | F18: =العاشر!D$23 -> 2 | G18: =العاشر!E$23 -> 2 | H18: =العاشر!F$23 -> 2 | I18: =العاشر!G$23 -> 2 | J18: =IFERROR(SUM(E18:I18),"") -> 10 | K18: =IFERROR('حالة الطلبة في الفصول'!K17,"") -> 0 | L18: =IFERROR(SUM(E18:H18)/J18,"") -> 0.8 | N18: =D18 -> العاشر | O18: =IFERROR(((E18+F18)/J18),"") -> 0.4 | P18: =IFERROR(G18/J18,"") -> 0.2 | Q18: =IFERROR(((H18+I18)-K18)/J18,"") -> 0.4
D19: الحادي عشر | E19: ='الحادي عشر'!C$24 -> 3 | F19: ='الحادي عشر'!D$24 -> 3 | G19: ='الحادي عشر'!E$24 -> 3 | H19: ='الحادي عشر'!F$24 -> 3 | I19: ='الحادي عشر'!G$24 -> 3 | J19: =IFERROR(SUM(E19:I19),"") -> 15 | K19: =IFERROR('حالة الطلبة في الفصول'!K18,"") -> 0 | L19: =IFERROR(SUM(E19:H19)/J19,"") -> 0.8 | N19: =D19 -> الحادي عشر | O19: =IFERROR(((E19+F19)/J19),"") -> 0.4 | P19: =IFERROR(G19/J19,"") -> 0.2 | Q19: =IFERROR(((H19+I19)-K19)/J19,"") -> 0.4
D20: الثاني عشر | E20: ='الثاني عشر'!C24 -> 3 | F20: ='الثاني عشر'!D24 -> 3 | G20: ='الثاني عشر'!E24 -> 3 | H20: ='الثاني عشر'!F24 -> 3 | I20: ='الثاني عشر'!G24 -> 3 | J20: =IFERROR(SUM(E20:I20),"") -> 15 | K20: =IFERROR('حالة الطلبة في الفصول'!K19,"") -> 4 | L20: =IFERROR(SUM(E20:H20)/J20,"") -> 0.8 | N20: =D20 -> الثاني عشر | O20: =IFERROR(((E20+F20)/J20),"") -> 0.4 | P20: =IFERROR(G20/J20,"") -> 0.2 | Q20: =IFERROR(((H20+I20)-K20)/J20,"") -> 0.13333333
D21: المجموع: | E21: =SUM(E9:E20) -> 29 | F21: =SUM(F9:F20) -> 27 | G21: =SUM(G9:G20) -> 36 | H21: =SUM(H9:H20) -> 25 | I21: =SUM(I9:I20) -> 26 | J21: =SUM(J9:J20) -> 143 | K21: =SUM(K9:K20) -> 7 | L21: =SUM(E21:H21)/J21 -> 0.81818182 | N21: المجموع | O21: =(E21+F21)/J21 -> 0.39160839 | P21: =G21/J21 -> 0.25174825 | Q21: =((H21+I21)-K21)/J21 -> 0.30769231 | S21: العدد الفعلي لطلبة (د +هـ) بعد إخراج الحالات: | V21: المجموع | W21: ط. الرعاية | X21: ق. إدارية | Y21: الغياب | Z21: العدد الفعلي
D22: الإجمالي | E22: =SUM(E21:F21) -> 56 | G22: =G21 -> 36 | H22: =SUM(H21:I21) -> 51 | V22: =H22 -> 51 | W22: =SUM('حالة الطلبة في الفصول'!E20:F20) -> 0 | X22: =SUM('حالة الطلبة في الفصول'!G20:H20) -> 0 | Y22: =SUM('حالة الطلبة في الفصول'!I20:J20) -> 7 | Z22: =V22-(W22+X22+Y22) -> 44
W39: =J3 -> مدرسة معاذ بن جبل للتعليم الأساسي (5-12)
G42: إعداد ومراجعة: | P42: الإشراف والمتابعة: | U42: يعتمد،،،
G43: المعلم الأول | P43: مشرف المادة | U43: إدارة المدرسة
B995: 5050

Sheet حالة الطلبة في الفصول
C3: عدد الحالات المؤثرة على التحصيل الدراسي العام بالمدرسة
C6: نوع الحالة | D6: عدد المقيدين | E6: عدد طلبة الرعاية | G6: القرارات الإدارية | I6: بسبب الغياب | K6: المجموع | P6: المخطط البياني لأعداد الطلبة المسجلين في كل حالة:
C7: الصف | E7: صعوبات | F7: دمج | G7: تخفيض | H7: ترسيب | I7: منقطع | J7: حرمان
C8: الأول | D8: =الأول!H18 -> 16 | E8: 0 | F8: 0 | G8: 0 | H8: 0 | I8: =الأول!I18 -> 0 | J8: 0 | K8: =SUM(E8:J8) -> 0
C9: الثاني | D9: =الثاني!H18 -> 5 | E9: 0 | F9: 0 | G9: 0 | H9: 0 | I9: =الثاني!I18 -> 0 | J9: 0 | K9: =SUM(E9:J9) -> 0
C10: الثالث | D10: =الثالث!H18 -> 15 | E10: 0 | F10: 0 | G10: 0 | H10: 0 | I10: =الثالث!I18 -> 0 | J10: 0 | K10: =SUM(E10:J10) -> 0
C11: الرابع | D11: =الرابع!H18 -> 0 | E11: 0 | F11: 0 | G11: 0 | H11: 0 | I11: =الرابع!I18 -> 1 | J11: 0 | K11: =SUM(E11:J11) -> 1
C12: الخامس | D12: =الخامس!H23 -> 16 | E12: 0 | F12: 0 | G12: 0 | H12: 0 | I12: =الخامس!I23 -> 0 | J12: 0 | K12: =SUM(E12:J12) -> 0
C13: السادس | D13: =السادس!H23 -> 16 | E13: 0 | F13: 0 | G13: 0 | H13: 0 | I13: =السادس!I23 -> 0 | J13: 0 | K13: =SUM(E13:J13) -> 0
C14: السابع | D14: =السابع!H23 -> 15 | E14: 0 | F14: 0 | G14: 0 | H14: 0 | I14: =السابع!I23 -> 0 | J14: 0 | K14: =SUM(E14:J14) -> 0
C15: الثامن | D15: =الثامن!H23 -> 10 | E15: 0 | F15: 0 | G15: 0 | H15: 0 | I15: =الثامن!I23 -> 2 | J15: 0 | K15: =SUM(E15:J15) -> 2
C16: التاسع | D16: =التاسع!H23 -> 10 | E16: 0 | F16: 0 | G16: 0 | H16: 0 | I16: =التاسع!I23 -> 0 | J16: 0 | K16: =SUM(E16:J16) -> 0
C17: العاشر | D17: =العاشر!H23 -> 10 | E17: 0 | F17: 0 | G17: 0 | H17: 0 | I17: =العاشر!I23 -> 0 | J17: 0 | K17: =SUM(E17:J17) -> 0
C18: الحادي عشر | D18: ='الحادي عشر'!H24 -> 15 | E18: 0 | F18: 0 | G18: 0 | H18: 0 | I18: ='الحادي عشر'!I24 -> 0 | J18: 0 | K18: =SUM(E18:J18) -> 0
C19: الثاني عشر | D19: ='الثاني عشر'!H24 -> 15 | E19: 0 | F19: 0 | G19: 0 | H19: 0 | I19: ='الثاني عشر'!I24 -> 4 | J19: 0 | K19: =SUM(E19:J19) -> 4
C20: المجموع: | D20: =SUM(D8:D19) -> 143 | E20: =SUM(E8:E19) -> 0 | F20: =SUM(F8:F19) -> 0 | G20: =SUM(G8:G19) -> 0 | H20: =SUM(H8:H19) -> 0 | I20: =SUM(I8:I19) -> 7 | J20: =SUM(J8:J19) -> 0 | K20: =SUM(E20:J20) -> 7
C21: مجموع الفـئـة: | E21: =SUM(E20:F20) -> 0 | G21: =SUM(G20:H20) -> 0 | I21: =SUM(I20:J20) -> 7 | N21: مقارنة نسبية بين الفئات:
C22: نسبة حضور الـفـئـة: | E22: =SUM(E21:F21)/D20 -> 0 | G22: =SUM(G21:H21)/D20 -> 0 | I22: =SUM(I21:J21)/D20 -> 0.048951049
Q25: ='التحليل العام للنتائج'!J3 -> مدرسة معاذ بن جبل للتعليم الأساسي (5-12)

Sheet الأول
B2: الصف/ الشعبة | C2: أ | D2: ب | E2: ج | F2: د | G2: هـ | H2: مجموع المقيدين | I2: عدد المنقطعين | J2: نسبة النجاح | L2: الصف / الشعبة | M2: القوة | N2: التوسط | O2: الضعف | Q2: مستوى أداء الطلبة في: | T2: ='التحليل العام للنتائج'!Z3 -> التربية الإسلامية
B3: الأول / 1 | C3: 4 | D3: 3 | E3: 2 | F3: 1 | G3: 1 | H3: =SUM(C3:G3) -> 11 | I3: 0 | J3: =IFERROR(SUM(C3:F3)/H3*100,"") -> 90.909091 | L3: =B3 -> الأول / 1 | M3: =IFERROR(((C3+D3)/H3),"") -> 0.63636364 | N3: =IFERROR((E3/H3),"") -> 0.18181818 | O3: =IFERROR(((F3+G3-I3)/H3),"") -> 0.18181818 | Q3: نسبة القوة إلى الضعف في الصف:
B4: الأول / 2 | H4: =SUM(C4:G4) -> 0 | I4: 0 | J4: =IFERROR(SUM(C4:F4)/H4*100,"") | L4: =B4 -> الأول / 2 | M4: =IFERROR(((C4+D4)/H4),"") | N4: =IFERROR((E4/H4),"") | O4: =IFERROR(((F4+G4-I4)/H4),"")
B5: الأول / 3 | H5: =SUM(C5:G5) -> 0 | I5: 0 | J5: =IFERROR(SUM(C5:F5)/H5*100,"") | L5: =B5 -> الأول / 3 | M5: =IFERROR(((C5+D5)/H5),"") | N5: =IFERROR((E5/H5),"") | O5: =IFERROR(((F5+G5-I5)/H5),"")
B6: الأول / 4 | H6: =SUM(C6:G6) -> 0 | I6: 0 | J6: =IFERROR(SUM(C6:F6)/H6*100,"") | L6: =B6 -> الأول / 4 | M6: =IFERROR(((C6+D6)/H6),"") | N6: =IFERROR((E6/H6),"") | O6: =IFERROR(((F6+G6-I6)/H6),"")
B7: الأول / 5 | H7: =SUM(C7:G7) -> 0 | I7: 0 | J7: =IFERROR(SUM(C7:F7)/H7*100,"") | L7: =B7 -> الأول / 5 | M7: =IFERROR(((C7+D7)/H7),"") | N7: =IFERROR((E7/H7),"") | O7: =IFERROR(((F7+G7-I7)/H7),"")
B8: الأول / 6 | H8: =SUM(C8:G8) -> 0 | I8: 0 | J8: =IFERROR(SUM(C8:F8)/H8*100,"") | L8: =B8 -> الأول / 6 | M8: =IFERROR(((C8+D8)/H8),"") | N8: =IFERROR((E8/H8),"") | O8: =IFERROR(((F8+G8-I8)/H8),"")
B9: الأول / 7 | H9: =SUM(C9:G9) -> 0 | I9: 0 | J9: =IFERROR(SUM(C9:F9)/H9*100,"") | L9: =B9 -> الأول / 7 | M9: =IFERROR(((C9+D9)/H9),"") | N9: =IFERROR((E9/H9),"") | O9: =IFERROR(((F9+G9-I9)/H9),"")
B10: الأول / 8 | H10: =SUM(C10:G10) -> 0 | I10: 0 | J10: =IFERROR(SUM(C10:F10)/H10*100,"") | L10: =B10 -> الأول / 8 | M10: =IFERROR(((C10+D10)/H10),"") | N10: =IFERROR((E10/H10),"") | O10: =IFERROR(((F10+G10-I10)/H10),"")
B11: الأول / 9 | H11: =SUM(C11:G11) -> 0 | I11: 0 | J11: =IFERROR(SUM(C11:F11)/H11*100,"") | L11: =B11 -> الأول / 9 | M11: =IFERROR(((C11+D11)/H11),"") | N11: =IFERROR((E11/H11),"") | O11: =IFERROR(((F11+G11-I11)/H11),"")
B12: الأول / 10 | H12: =SUM(C12:G12) -> 0 | I12: 0 | J12: =IFERROR(SUM(C12:F12)/H12*100,"") | L12: =B12 -> الأول / 10 | M12: =IFERROR(((C12+D12)/H12),"") | N12: =IFERROR((E12/H12),"") | O12: =IFERROR(((F12+G12-I12)/H12),"")
B13: الأول / 11 | H13: =SUM(C13:G13) -> 0 | I13: 0 | J13: =IFERROR(SUM(C13:F13)/H13*100,"") | L13: =B13 -> الأول / 11 | M13: =IFERROR(((C13+D13)/H13),"") | N13: =IFERROR((E13/H13),"") | O13: =IFERROR(((F13+G13-I13)/H13),"")
B14: الأول / 12 | H14: =SUM(C14:G14) -> 0 | I14: 0 | J14: =IFERROR(SUM(C14:F14)/H14*100,"") | L14: =B14 -> الأول / 12 | M14: =IFERROR(((C14+D14)/H14),"") | N14: =IFERROR((E14/H14),"") | O14: =IFERROR(((F14+G14-I14)/H14),"")
B15: الأول / 13 | H15: =SUM(C15:G15) -> 0 | I15: 0 | J15: =IFERROR(SUM(C15:F15)/H15*100,"") | L15: =B15 -> الأول / 13 | M15: =IFERROR(((C15+D15)/H15),"") | N15: =IFERROR((E15/H15),"") | O15: =IFERROR(((F15+G15-I15)/H15),"")
B16: الأول / 14 | H16: =SUM(C16:G16) -> 0 | I16: 0 | J16: =IFERROR(SUM(C16:F16)/H16*100,"") | L16: =B16 -> الأول / 14 | M16: =IFERROR(((C16+D16)/H16),"") | N16: =IFERROR((E16/H16),"") | O16: =IFERROR(((F16+G16-I16)/H16),"")
B17: الأول / 15 | C17: 1 | D17: 1 | E17: 1 | F17: 1 | G17: 1 | H17: =SUM(C17:G17) -> 5 | I17: 0 | J17: =IFERROR(SUM(C17:F17)/H17*100,"") -> 80 | L17: =B17 -> الأول / 15 | M17: =IFERROR(((C17+D17)/H17),"") -> 0.4 | N17: =IFERROR((E17/H17),"") -> 0.2 | O17: =IFERROR(((F17+G17-I17)/H17),"") -> 0.4
B18: المجموع | C18: =SUM(C3:C17) -> 5 | D18: =SUM(D3:D17) -> 4 | E18: =SUM(E3:E17) -> 3 | F18: =SUM(F3:F17) -> 2 | G18: =SUM(G3:G17) -> 2 | H18: =SUM(H3:H17) -> 16 | I18: =SUM(I3:I17) -> 0 | J18: =SUM(C18:F18)/H18*100 -> 87.5 | L18: المجموع | M18: =(C18+D18)/H18 -> 0.5625 | N18: =E18/H18 -> 0.1875 | O18: =((F18+G18-I18)/H18) -> 0.25
B19: مجموع الطلبة | C19: =D18+C18 -> 9 | E19: =E18 -> 3 | F19: =G18+F18 -> 4
N40: النموذج من إعداد: | P40: ='التحليل العام للنتائج'!J3 -> مدرسة معاذ بن جبل للتعليم الأساسي (5-12)

Sheet الثاني
B2: الصف/ الشعبة | C2: أ | D2: ب | E2: ج | F2: د | G2: هـ | H2: مجموع المقيدين | I2: عدد المنقطعين | J2: نسبة النجاح | L2: الصف / الشعبة | M2: القوة | N2: التوسط | O2: الضعف | Q2: مستوى أداء الطلبة في: | T2: ='التحليل العام للنتائج'!Z3 -> التربية الإسلامية
B3: الثاني / 1 | H3: =SUM(C3:G3) -> 0 | I3: 0 | J3: =IFERROR(SUM(C3:F3)/H3*100,"") | L3: =B3 -> الثاني / 1 | M3: =IFERROR(((C3+D3)/H3),"") | N3: =IFERROR((E3/H3),"") | O3: =IFERROR(((F3+G3-I3)/H3),"") | Q3: نسبة القوة إلى الضعف في الصف:
B4: الثاني / 2 | H4: =SUM(C4:G4) -> 0 | I4: 0 | J4: =IFERROR(SUM(C4:F4)/H4*100,"") | L4: =B4 -> الثاني / 2 | M4: =IFERROR(((C4+D4)/H4),"") | N4: =IFERROR((E4/H4),"") | O4: =IFERROR(((F4+G4-I4)/H4),"")
B5: الثاني / 3 | H5: =SUM(C5:G5) -> 0 | I5: 0 | J5: =IFERROR(SUM(C5:F5)/H5*100,"") | L5: =B5 -> الثاني / 3 | M5: =IFERROR(((C5+D5)/H5),"") | N5: =IFERROR((E5/H5),"") | O5: =IFERROR(((F5+G5-I5)/H5),"")
B6: الثاني / 4 | H6: =SUM(C6:G6) -> 0 | I6: 0 | J6: =IFERROR(SUM(C6:F6)/H6*100,"") | L6: =B6 -> الثاني / 4 | M6: =IFERROR(((C6+D6)/H6),"") | N6: =IFERROR((E6/H6),"") | O6: =IFERROR(((F6+G6-I6)/H6),"")
B7: الثاني / 5 | H7: =SUM(C7:G7) -> 0 | I7: 0 | J7: =IFERROR(SUM(C7:F7)/H7*100,"") | L7: =B7 -> الثاني / 5 | M7: =IFERROR(((C7+D7)/H7),"") | N7: =IFERROR((E7/H7),"") | O7: =IFERROR(((F7+G7-I7)/H7),"")
B8: الثاني / 6 | H8: =SUM(C8:G8) -> 0 | I8: 0 | J8: =IFERROR(SUM(C8:F8)/H8*100,"") | L8: =B8 -> الثاني / 6 | M8: =IFERROR(((C8+D8)/H8),"") | N8: =IFERROR((E8/H8),"") | O8: =IFERROR(((F8+G8-I8)/H8),"")
B9: الثاني / 7 | H9: =SUM(C9:G9) -> 0 | I9: 0 | J9: =IFERROR(SUM(C9:F9)/H9*100,"") | L9: =B9 -> الثاني / 7 | M9: =IFERROR(((C9+D9)/H9),"") | N9: =IFERROR((E9/H9),"") | O9: =IFERROR(((F9+G9-I9)/H9),"")
B10: الثاني / 8 | H10: =SUM(C10:G10) -> 0 | I10: 0 | J10: =IFERROR(SUM(C10:F10)/H10*100,"") | L10: =B10 -> الثاني / 8 | M10: =IFERROR(((C10+D10)/H10),"") | N10: =IFERROR((E10/H10),"") | O10: =IFERROR(((F10+G10-I10)/H10),"")
B11: الثاني / 9 | H11: =SUM(C11:G11) -> 0 | I11: 0 | J11: =IFERROR(SUM(C11:F11)/H11*100,"") | L11: =B11 -> الثاني / 9 | M11: =IFERROR(((C11+D11)/H11),"") | N11: =IFERROR((E11/H11),"") | O11: =IFERROR(((F11+G11-I11)/H11),"")
B12: الثاني / 10 | H12: =SUM(C12:G12) -> 0 | I12: 0 | J12: =IFERROR(SUM(C12:F12)/H12*100,"") | L12: =B12 -> الثاني / 10 | M12: =IFERROR(((C12+D12)/H12),"") | N12: =IFERROR((E12/H12),"") | O12: =IFERROR(((F12+G12-I12)/H12),"")
B13: الثاني / 11 | H13: =SUM(C13:G13) -> 0 | I13: 0 | J13: =IFERROR(SUM(C13:F13)/H13*100,"") | L13: =B13 -> الثاني / 11 | M13: =IFERROR(((C13+D13)/H13),"") | N13: =IFERROR((E13/H13),"") | O13: =IFERROR(((F13+G13-I13)/H13),"")
B14: الثاني / 12 | H14: =SUM(C14:G14) -> 0 | I14: 0 | J14: =IFERROR(SUM(C14:F14)/H14*100,"") | L14: =B14 -> الثاني / 12 | M14: =IFERROR(((C14+D14)/H14),"") | N14: =IFERROR((E14/H14),"") | O14: =IFERROR(((F14+G14-I14)/H14),"")
B15: الثاني / 13 | H15: =SUM(C15:G15) -> 0 | I15: 0 | J15: =IFERROR(SUM(C15:F15)/H15*100,"") | L15: =B15 -> الثاني / 13 | M15: =IFERROR(((C15+D15)/H15),"") | N15: =IFERROR((E15/H15),"") | O15: =IFERROR(((F15+G15-I15)/H15),"")
B16: الثاني / 14 | H16: =SUM(C16:G16) -> 0 | I16: 0 | J16: =IFERROR(SUM(C16:F16)/H16*100,"") | L16: =B16 -> الثاني / 14 | M16: =IFERROR(((C16+D16)/H16),"") | N16: =IFERROR((E16/H16),"") | O16: =IFERROR(((F16+G16-I16)/H16),"")
B17: الثاني / 15 | C17: 1 | D17: 1 | E17: 1 | F17: 1 | G17: 1 | H17: =SUM(C17:G17) -> 5 | I17: 0 | J17: =IFERROR(SUM(C17:F17)/H17*100,"") -> 80 | L17: =B17 -> الثاني / 15 | M17: =IFERROR(((C17+D17)/H17),"") -> 0.4 | N17: =IFERROR((E17/H17),"") -> 0.2 | O17: =IFERROR(((F17+G17-I17)/H17),"") -> 0.4
B18: المجموع | C18: =SUM(C3:C17) -> 1 | D18: =SUM(D3:D17) -> 1 | E18: =SUM(E3:E17) -> 1 | F18: =SUM(F3:F17) -> 1 | G18: =SUM(G3:G17) -> 1 | H18: =SUM(H3:H17) -> 5 | I18: =SUM(I3:I17) -> 0 | J18: =SUM(C18:F18)/H18*100 -> 80 | L18: المجموع | M18: =(C18+D18)/H18 -> 0.4 | N18: =E18/H18 -> 0.2 | O18: =((F18+G18-I18)/H18) -> 0.4
B19: مجموع الطلبة | C19: =D18+C18 -> 2 | E19: =E18 -> 1 | F19: =G18+F18 -> 2
N40: النموذج من إعداد: | P40: ='التحليل العام للنتائج'!J3 -> مدرسة معاذ بن جبل للتعليم الأساسي (5-12)

Sheet الثالث
B2: الصف/ الشعبة | C2: أ | D2: ب | E2: ج | F2: د | G2: هـ | H2: مجموع المقيدين | I2: عدد المنقطعين | J2: نسبة النجاح | L2: الصف / الشعبة | M2: القوة | N2: التوسط | O2: الضعف | Q2: مستوى أداء الطلبة في: | T2: ='التحليل العام للنتائج'!Z3 -> التربية الإسلامية
B3: الثالث / 1 | C3: 1 | D3: 1 | E3: 6 | F3: 1 | G3: 1 | H3: =SUM(C3:G3) -> 10 | I3: 0 | J3: =IFERROR(SUM(C3:F3)/H3*100,"") -> 90 | L3: =B3 -> الثالث / 1 | M3: =IFERROR(((C3+D3)/H3),"") -> 0.2 | N3: =IFERROR((E3/H3),"") -> 0.6 | O3: =IFERROR(((F3+G3-I3)/H3),"") -> 0.2 | Q3: نسبة القوة إلى الضعف في الصف:
B4: الثالث / 2 | H4: =SUM(C4:G4) -> 0 | I4: 0 | J4: =IFERROR(SUM(C4:F4)/H4*100,"") | L4: =B4 -> الثالث / 2 | M4: =IFERROR(((C4+D4)/H4),"") | N4: =IFERROR((E4/H4),"") | O4: =IFERROR(((F4+G4-I4)/H4),"")
B5: الثالث / 3 | H5: =SUM(C5:G5) -> 0 | I5: 0 | J5: =IFERROR(SUM(C5:F5)/H5*100,"") | L5: =B5 -> الثالث / 3 | M5: =IFERROR(((C5+D5)/H5),"") | N5: =IFERROR((E5/H5),"") | O5: =IFERROR(((F5+G5-I5)/H5),"")
B6: الثالث / 4 | H6: =SUM(C6:G6) -> 0 | I6: 0 | J6: =IFERROR(SUM(C6:F6)/H6*100,"") | L6: =B6 -> الثالث / 4 | M6: =IFERROR(((C6+D6)/H6),"") | N6: =IFERROR((E6/H6),"") | O6: =IFERROR(((F6+G6-I6)/H6),"")
B7: الثالث / 5 | H7: =SUM(C7:G7) -> 0 | I7: 0 | J7: =IFERROR(SUM(C7:F7)/H7*100,"") | L7: =B7 -> الثالث / 5 | M7: =IFERROR(((C7+D7)/H7),"") | N7: =IFERROR((E7/H7),"") | O7: =IFERROR(((F7+G7-I7)/H7),"")
B8: الثالث / 6 | H8: =SUM(C8:G8) -> 0 | I8: 0 | J8: =IFERROR(SUM(C8:F8)/H8*100,"") | L8: =B8 -> الثالث / 6 | M8: =IFERROR(((C8+D8)/H8),"") | N8: =IFERROR((E8/H8),"") | O8: =IFERROR(((F8+G8-I8)/H8),"")
B9: الثالث / 7 | H9: =SUM(C9:G9) -> 0 | I9: 0 | J9: =IFERROR(SUM(C9:F9)/H9*100,"") | L9: =B9 -> الثالث / 7 | M9: =IFERROR(((C9+D9)/H9),"") | N9: =IFERROR((E9/H9),"") | O9: =IFERROR(((F9+G9-I9)/H9),"")
B10: الثالث / 8 | H10: =SUM(C10:G10) -> 0 | I10: 0 | J10: =IFERROR(SUM(C10:F10)/H10*100,"") | L10: =B10 -> الثالث / 8 | M10: =IFERROR(((C10+D10)/H10),"") | N10: =IFERROR((E10/H10),"") | O10: =IFERROR(((F10+G10-I10)/H10),"")
B11: الثالث / 9 | H11: =SUM(C11:G11) -> 0 | I11: 0 | J11: =IFERROR(SUM(C11:F11)/H11*100,"") | L11: =B11 -> الثالث / 9 | M11: =IFERROR(((C11+D11)/H11),"") | N11: =IFERROR((E11/H11),"") | O11: =IFERROR(((F11+G11-I11)/H11),"")
B12: الثالث / 10 | H12: =SUM(C12:G12) -> 0 | I12: 0 | J12: =IFERROR(SUM(C12:F12)/H12*100,"") | L12: =B12 -> الثالث / 10 | M12: =IFERROR(((C12+D12)/H12),"") | N12: =IFERROR((E12/H12),"") | O12: =IFERROR(((F12+G12-I12)/H12),"")
B13: الثالث / 11 | H13: =SUM(C13:G13) -> 0 | I13: 0 | J13: =IFERROR(SUM(C13:F13)/H13*100,"") | L13: =B13 -> الثالث / 11 | M13: =IFERROR(((C13+D13)/H13),"") | N13: =IFERROR((E13/H13),"") | O13: =IFERROR(((F13+G13-I13)/H13),"")
B14: الثالث / 12 | H14: =SUM(C14:G14) -> 0 | I14: 0 | J14: =IFERROR(SUM(C14:F14)/H14*100,"") | L14: =B14 -> الثالث / 12 | M14: =IFERROR(((C14+D14)/H14),"") | N14: =IFERROR((E14/H14),"") | O14: =IFERROR(((F14+G14-I14)/H14),"")
B15: الثالث / 13 | H15: =SUM(C15:G15) -> 0 | I15: 0 | J15: =IFERROR(SUM(C15:F15)/H15*100,"") | L15: =B15 -> الثالث / 13 | M15: =IFERROR(((C15+D15)/H15),"") | N15: =IFERROR((E15/H15),"") | O15: =IFERROR(((F15+G15-I15)/H15),"")
B16: الثالث / 14 | H16: =SUM(C16:G16) -> 0 | I16: 0 | J16: =IFERROR(SUM(C16:F16)/H16*100,"") | L16: =B16 -> الثالث / 14 | M16: =IFERROR(((C16+D16)/H16),"") | N16: =IFERROR((E16/H16),"") | O16: =IFERROR(((F16+G16-I16)/H16),"")
B17: الثالث / 15 | C17: 1 | D17: 1 | E17: 1 | F17: 1 | G17: 1 | H17: =SUM(C17:G17) -> 5 | I17: 0 | J17: =IFERROR(SUM(C17:F17)/H17*100,"") -> 80 | L17: =B17 -> الثالث / 15 | M17: =IFERROR(((C17+D17)/H17),"") -> 0.4 | N17: =IFERROR((E17/H17),"") -> 0.2 | O17: =IFERROR(((F17+G17-I17)/H17),"") -> 0.4
B18: المجموع | C18: =SUM(C3:C17) -> 2 | D18: =SUM(D3:D17) -> 2 | E18: =SUM(E3:E17) -> 7 | F18: =SUM(F3:F17) -> 2 | G18: =SUM(G3:G17) -> 2 | H18: =SUM(H3:H17) -> 15 | I18: =SUM(I3:I17) -> 0 | J18: =SUM(C18:F18)/H18*100 -> 86.666667 | L18: المجموع | M18: =(C18+D18)/H18 -> 0.26666667 | N18: =E18/H18 -> 0.46666667 | O18: =((F18+G18-I18)/H18) -> 0.26666667
B19: مجموع الطلبة | C19: =D18+C18 -> 4 | E19: =E18 -> 7 | F19: =G18+F18 -> 4
N40: النموذج من إعداد: | P40: ='التحليل العام للنتائج'!J3 -> مدرسة معاذ بن جبل للتعليم الأساسي (5-12)

Sheet الرابع
B2: الصف/ الشعبة | C2: أ | D2: ب | E2: ج | F2: د | G2: هـ | H2: مجموع المقيدين | I2: عدد المنقطعين | J2: نسبة النجاح | L2: الصف / الشعبة | M2: القوة | N2: التوسط | O2: الضعف | Q2: مستوى أداء الطلبة في: | T2: ='التحليل العام للنتائج'!Z3 -> التربية الإسلامية
B3: الرابع / 1 | H3: =SUM(C3:G3) -> 0 | J3: =IFERROR(SUM(C3:F3)/H3*100,"") | L3: =B3 -> الرابع / 1 | M3: =IFERROR(((C3+D3)/H3),"") | N3: =IFERROR((E3/H3),"") | O3: =IFERROR(((F3+G3-I3)/H3),"") | Q3: نسبة القوة إلى الضعف في الصف:
B4: الرابع / 2 | H4: =SUM(C4:G4) -> 0 | I4: 0 | J4: =IFERROR(SUM(C4:F4)/H4*100,"") | L4: =B4 -> الرابع / 2 | M4: =IFERROR(((C4+D4)/H4),"") | N4: =IFERROR((E4/H4),"") | O4: =IFERROR(((F4+G4-I4)/H4),"")
B5: الرابع / 3 | H5: =SUM(C5:G5) -> 0 | I5: 0 | J5: =IFERROR(SUM(C5:F5)/H5*100,"") | L5: =B5 -> الرابع / 3 | M5: =IFERROR(((C5+D5)/H5),"") | N5: =IFERROR((E5/H5),"") | O5: =IFERROR(((F5+G5-I5)/H5),"")
B6: الرابع / 4 | H6: =SUM(C6:G6) -> 0 | I6: 0 | J6: =IFERROR(SUM(C6:F6)/H6*100,"") | L6: =B6 -> الرابع / 4 | M6: =IFERROR(((C6+D6)/H6),"") | N6: =IFERROR((E6/H6),"") | O6: =IFERROR(((F6+G6-I6)/H6),"")
B7: الرابع / 5 | H7: =SUM(C7:G7) -> 0 | I7: 0 | J7: =IFERROR(SUM(C7:F7)/H7*100,"") | L7: =B7 -> الرابع / 5 | M7: =IFERROR(((C7+D7)/H7),"") | N7: =IFERROR((E7/H7),"") | O7: =IFERROR(((F7+G7-I7)/H7),"")
B8: الرابع / 6 | H8: =SUM(C8:G8) -> 0 | I8: 0 | J8: =IFERROR(SUM(C8:F8)/H8*100,"") | L8: =B8 -> الرابع / 6 | M8: =IFERROR(((C8+D8)/H8),"") | N8: =IFERROR((E8/H8),"") | O8: =IFERROR(((F8+G8-I8)/H8),"")
B9: الرابع / 7 | H9: =SUM(C9:G9) -> 0 | I9: 0 | J9: =IFERROR(SUM(C9:F9)/H9*100,"") | L9: =B9 -> الرابع / 7 | M9: =IFERROR(((C9+D9)/H9),"") | N9: =IFERROR((E9/H9),"") | O9: =IFERROR(((F9+G9-I9)/H9),"")
B10: الرابع / 8 | H10: =SUM(C10:G10) -> 0 | I10: 0 | J10: =IFERROR(SUM(C10:F10)/H10*100,"") | L10: =B10 -> الرابع / 8 | M10: =IFERROR(((C10+D10)/H10),"") | N10: =IFERROR((E10/H10),"") | O10: =IFERROR(((F10+G10-I10)/H10),"")
B11: الرابع / 9 | H11: =SUM(C11:G11) -> 0 | I11: 0 | J11: =IFERROR(SUM(C11:F11)/H11*100,"") | L11: =B11 -> الرابع / 9 | M11: =IFERROR(((C11+D11)/H11),"") | N11: =IFERROR((E11/H11),"") | O11: =IFERROR(((F11+G11-I11)/H11),"")
B12: الرابع / 10 | H12: =SUM(C12:G12) -> 0 | I12: 0 | J12: =IFERROR(SUM(C12:F12)/H12*100,"") | L12: =B12 -> الرابع / 10 | M12: =IFERROR(((C12+D12)/H12),"") | N12: =IFERROR((E12/H12),"") | O12: =IFERROR(((F12+G12-I12)/H12),"")
B13: الرابع / 11 | H13: =SUM(C13:G13) -> 0 | I13: 0 | J13: =IFERROR(SUM(C13:F13)/H13*100,"") | L13: =B13 -> الرابع / 11 | M13: =IFERROR(((C13+D13)/H13),"") | N13: =IFERROR((E13/H13),"") | O13: =IFERROR(((F13+G13-I13)/H13),"")
B14: الرابع / 12 | H14: =SUM(C14:G14) -> 0 | I14: 0 | J14: =IFERROR(SUM(C14:F14)/H14*100,"") | L14: =B14 -> الرابع / 12 | M14: =IFERROR(((C14+D14)/H14),"") | N14: =IFERROR((E14/H14),"") | O14: =IFERROR(((F14+G14-I14)/H14),"")
B15: الرابع / 13 | H15: =SUM(C15:G15) -> 0 | I15: 0 | J15: =IFERROR(SUM(C15:F15)/H15*100,"") | L15: =B15 -> الرابع / 13 | M15: =IFERROR(((C15+D15)/H15),"") | N15: =IFERROR((E15/H15),"") | O15: =IFERROR(((F15+G15-I15)/H15),"")
... B17: الرابع / 15 | H17: =SUM(C17:G17) -> 0 | I17: 1 | J17: =IFERROR(SUM(C17:F17)/H17*100,"") | L17: =B17 -> الرابع / 15 | M17: =IFERROR(((C17+D17)/H17),"") | N17: =IFERROR((E17/H17),"") | O17: =IFERROR(((F17+G17-I17)/H17),"")
B18: المجموع | C18: =SUM(C3:C17) -> 0 | D18: =SUM(D3:D17) -> 0 | E18: =SUM(E3:E17) -> 0 | F18: =SUM(F3:F17) -> 0 | G18: =SUM(G3:G17) -> 0 | H18: =SUM(H3:H17) -> 0 | I18: =SUM(I3:I17) -> 1 | J18: =SUM(C18:F18)/H18*100 -> #DIV/0! | L18: المجموع | M18: =(C18+D18)/H18 -> #DIV/0! | N18: =E18/H18 -> #DIV/0! | O18: =((F18+G18-I18)/H18) -> #DIV/0!
B19: مجموع الطلبة | C19: =D18+C18 -> 0 | E19: =E18 -> 0 | F19: =G18+F18 -> 0
N40: النموذج من إعداد: | P40: ='التحليل العام للنتائج'!J3 -> مدرسة معاذ بن جبل للتعليم الأساسي (5-12)

Sheet الخامس
B2: الصف/ الشعبة | C2: أ | D2: ب | E2: ج | F2: د | G2: هـ | H2: مجموع المقيدين | I2: عدد المنقطعين | J2: نسبة النجاح | L2: الصف / الشعبة | M2: القوة | N2: التوسط | O2: الضعف | Q2: مستوى أداء الطلبة في: | T2: ='التحليل العام للنتائج'!Z3 -> التربية الإسلامية
B3: الخامس / 1 | C3: 4 | D3: 3 | E3: 2 | F3: 1 | G3: 1 | H3: =SUM(C3:G3) -> 11 | I3: 0 | J3: =IFERROR(SUM(C3:F3)/H3*100,"") -> 90.909091 | L3: =B3 -> الخامس / 1 | M3: =IFERROR(((C3+D3)/H3),"") -> 0.63636364 | N3: =IFERROR((E3/H3),"") -> 0.18181818 | O3: =IFERROR(((F3+G3-I3)/H3),"") -> 0.18181818 | Q3: نسبة القوة إلى الضعف في الصف:
B4: الخامس / 2 | H4: =SUM(C4:G4) -> 0 | I4: 0 | J4: =IFERROR(SUM(C4:F4)/H4*100,"") | L4: =B4 -> الخامس / 2 | M4: =IFERROR(((C4+D4)/H4),"") | N4: =IFERROR((E4/H4),"") | O4: =IFERROR(((F4+G4-I4)/H4),"")
B5: الخامس / 3 | H5: =SUM(C5:G5) -> 0 | I5: 0 | J5: =IFERROR(SUM(C5:F5)/H5*100,"") | L5: =B5 -> الخامس / 3 | M5: =IFERROR(((C5+D5)/H5),"") | N5: =IFERROR((E5/H5),"") | O5: =IFERROR(((F5+G5-I5)/H5),"")
B6: الخامس / 4 | H6: =SUM(C6:G6) -> 0 | I6: 0 | J6: =IFERROR(SUM(C6:F6)/H6*100,"") | L6: =B6 -> الخامس / 4 | M6: =IFERROR(((C6+D6)/H6),"") | N6: =IFERROR((E6/H6),"") | O6: =IFERROR(((F6+G6-I6)/H6),"")
B7: الخامس / 5 | H7: =SUM(C7:G7) -> 0 | I7: 0 | J7: =IFERROR(SUM(C7:F7)/H7*100,"") | L7: =B7 -> الخامس / 5 | M7: =IFERROR(((C7+D7)/H7),"") | N7: =IFERROR((E7/H7),"") | O7: =IFERROR(((F7+G7-I7)/H7),"")
B8: الخامس / 6 | H8: =SUM(C8:G8) -> 0 | I8: 0 | J8: =IFERROR(SUM(C8:F8)/H8*100,"") | L8: =B8 -> الخامس / 6 | M8: =IFERROR(((C8+D8)/H8),"") | N8: =IFERROR((E8/H8),"") | O8: =IFERROR(((F8+G8-I8)/H8),"")
B9: الخامس / 7 | H9: =SUM(C9:G9) -> 0 | I9: 0 | J9: =IFERROR(SUM(C9:F9)/H9*100,"") | L9: =B9 -> الخامس / 7 | M9: =IFERROR(((C9+D9)/H9),"") | N9: =IFERROR((E9/H9),"") | O9: =IFERROR(((F9+G9-I9)/H9),"")
B10: الخامس / 8 | H10: =SUM(C10:G10) -> 0 | I10: 0 | J10: =IFERROR(SUM(C10:F10)/H10*100,"") | L10: =B10 -> الخامس / 8 | M10: =IFERROR(((C10+D10)/H10),"") | N10: =IFERROR((E10/H10),"") | O10: =IFERROR(((F10+G10-I10)/H10),"")
B11: الخامس / 9 | H11: =SUM(C11:G11) -> 0 | I11: 0 | J11: =IFERROR(SUM(C11:F11)/H11*100,"") | L11: =B11 -> الخامس / 9 | M11: =IFERROR(((C11+D11)/H11),"") | N11: =IFERROR((E11/H11),"") | O11: =IFERROR(((F11+G11-I11)/H11),"")
B12: الخامس / 10 | H12: =SUM(C12:G12) -> 0 | I12: 0 | J12: =IFERROR(SUM(C12:F12)/H12*100,"") | L12: =B12 -> الخامس / 10 | M12: =IFERROR(((C12+D12)/H12),"") | N12: =IFERROR((E12/H12),"") | O12: =IFERROR(((F12+G12-I12)/H12),"")
B13: الخامس / 11 | H13: =SUM(C13:G13) -> 0 | I13: 0 | J13: =IFERROR(SUM(C13:F13)/H13*100,"") | L13: =B13 -> الخامس / 11 | M13: =IFERROR(((C13+D13)/H13),"") | N13: =IFERROR((E13/H13),"") | O13: =IFERROR(((F13+G13-I13)/H13),"")
B14: الخامس / 12 | H14: =SUM(C14:G14) -> 0 | I14: 0 | J14: =IFERROR(SUM(C14:F14)/H14*100,"") | L14: =B14 -> الخامس / 12 | M14: =IFERROR(((C14+D14)/H14),"") | N14: =IFERROR((E14/H14),"") | O14: =IFERROR(((F14+G14-I14)/H14),"")
B15: الخامس / 13 | H15: =SUM(C15:G15) -> 0 | I15: 0 | J15: =IFERROR(SUM(C15:F15)/H15*100,"") | L15: =B15 -> الخامس / 13 | M15: =IFERROR(((C15+D15)/H15),"") | N15: =IFERROR((E15/H15),"") | O15: =IFERROR(((F15+G15-I15)/H15),"")
... B21: الخامس / 19 | H21: =SUM(C21:G21) -> 0 | I21: 0 | J21: =IFERROR(SUM(C21:F21)/H21*100,"") | L21: =B21 -> الخامس / 19 | M21: =IFERROR(((C21+D21)/H21),"") | N21: =IFERROR((E21/H21),"") | O21: =IFERROR(((F21+G21-I21)/H21),"")
B22: الخامس / 20 | C22: 1 | D22: 1 | E22: 1 | F22: 1 | G22: 1 | H22: =SUM(C22:G22) -> 5 | I22: 0 | J22: =IFERROR(SUM(C22:F22)/H22*100,"") -> 80 | L22: =B22 -> الخامس / 20 | M22: =IFERROR(((C22+D22)/H22),"") -> 0.4 | N22: =IFERROR((E22/H22),"") -> 0.2 | O22: =IFERROR(((F22+G22-I22)/H22),"") -> 0.4
B23: المجموع | C23: =SUM(C3:C22) -> 5 | D23: =SUM(D3:D22) -> 4 | E23: =SUM(E3:E22) -> 3 | F23: =SUM(F3:F22) -> 2 | G23: =SUM(G3:G22) -> 2 | H23: =SUM(H3:H22) -> 16 | I23: =SUM(I3:I22) -> 0 | J23: =SUM(C23:F23)/H23*100 -> 87.5 | L23: المجموع | M23: =(C23+D23)/H23 -> 0.5625 | N23: =E23/H23 -> 0.1875 | O23: =((F23+G23-I23)/H23) -> 0.25
B24: مجموع الطلبة | C24: =D23+C23 -> 9 | E24: =E23 -> 3 | F24: =G23+F23 -> 4
N45: النموذج من إعداد: | P45: ='التحليل العام للنتائج'!J3 -> مدرسة معاذ بن جبل للتعليم الأساسي (5-12)

Sheet السادس
B2: الصف/ الشعبة | C2: أ | D2: ب | E2: ج | F2: د | G2: هـ | H2: مجموع المقيدين | I2: عدد المنقطعين | J2: نسبة النجاح | L2: الصف / الشعبة | M2: القوة | N2: التوسط | O2: الضعف | Q2: مستوى أداء الطلبة في: | T2: ='التحليل العام للنتائج'!Z3 -> التربية الإسلامية
B3: السادس / 1 | C3: 1 | D3: 1 | E3: 2 | F3: 3 | G3: 4 | H3: =SUM(C3:G3) -> 11 | I3: 0 | J3: =IFERROR(SUM(C3:F3)/H3*100,"") -> 63.636364 | L3: =B3 -> السادس / 1 | M3: =IFERROR(((C3+D3)/H3),"") -> 0.18181818 | N3: =IFERROR((E3/H3),"") -> 0.18181818 | O3: =IFERROR(((F3+G3-I3)/H3),"") -> 0.63636364 | Q3: نسبة القوة إلى الضعف في الصف:
B4: السادس / 2 | H4: =SUM(C4:G4) -> 0 | I4: 0 | J4: =IFERROR(SUM(C4:F4)/H4*100,"") | L4: =B4 -> السادس / 2 | M4: =IFERROR(((C4+D4)/H4),"") | N4: =IFERROR((E4/H4),"") | O4: =IFERROR(((F4+G4-I4)/H4),"")
B5: السادس / 3 | H5: =SUM(C5:G5) -> 0 | I5: 0 | J5: =IFERROR(SUM(C5:F5)/H5*100,"") | L5: =B5 -> السادس / 3 | M5: =IFERROR(((C5+D5)/H5),"") | N5: =IFERROR((E5/H5),"") | O5: =IFERROR(((F5+G5-I5)/H5),"")
B6: السادس / 4 | H6: =SUM(C6:G6) -> 0 | I6: 0 | J6: =IFERROR(SUM(C6:F6)/H6*100,"") | L6: =B6 -> السادس / 4 | M6: =IFERROR(((C6+D6)/H6),"") | N6: =IFERROR((E6/H6),"") | O6: =IFERROR(((F6+G6-I6)/H6),"")
B7: السادس / 5 | H7: =SUM(C7:G7) -> 0 | I7: 0 | J7: =IFERROR(SUM(C7:F7)/H7*100,"") | L7: =B7 -> السادس / 5 | M7: =IFERROR(((C7+D7)/H7),"") | N7: =IFERROR((E7/H7),"") | O7: =IFERROR(((F7+G7-I7)/H7),"")
B8: السادس / 6 | H8: =SUM(C8:G8) -> 0 | I8: 0 | J8: =IFERROR(SUM(C8:F8)/H8*100,"") | L8: =B8 -> السادس / 6 | M8: =IFERROR(((C8+D8)/H8),"") | N8: =IFERROR((E8/H8),"") | O8: =IFERROR(((F8+G8-I8)/H8),"")
B9: السادس / 7 | H9: =SUM(C9:G9) -> 0 | I9: 0 | J9: =IFERROR(SUM(C9:F9)/H9*100,"") | L9: =B9 -> السادس / 7 | M9: =IFERROR(((C9+D9)/H9),"") | N9: =IFERROR((E9/H9),"") | O9: =IFERROR(((F9+G9-I9)/H9),"")
B10: السادس / 8 | H10: =SUM(C10:G10) -> 0 | I10: 0 | J10: =IFERROR(SUM(C10:F10)/H10*100,"") | L10: =B10 -> السادس / 8 | M10: =IFERROR(((C10+D10)/H10),"") | N10: =IFERROR((E10/H10),"") | O10: =IFERROR(((F10+G10-I10)/H10),"")
B11: السادس / 9 | H11: =SUM(C11:G11) -> 0 | I11: 0 | J11: =IFERROR(SUM(C11:F11)/H11*100,"") | L11: =B11 -> السادس / 9 | M11: =IFERROR(((C11+D11)/H11),"") | N11: =IFERROR((E11/H11),"") | O11: =IFERROR(((F11+G11-I11)/H11),"")
B12: السادس / 10 | H12: =SUM(C12:G12) -> 0 | I12: 0 | J12: =IFERROR(SUM(C12:F12)/H12*100,"") | L12: =B12 -> السادس / 10 | M12: =IFERROR(((C12+D12)/H12),"") | N12: =IFERROR((E12/H12),"") | O12: =IFERROR(((F12+G12-I12)/H12),"")
B13: السادس / 11 | H13: =SUM(C13:G13) -> 0 | I13: 0 | J13: =IFERROR(SUM(C13:F13)/H13*100,"") | L13: =B13 -> السادس / 11 | M13: =IFERROR(((C13+D13)/H13),"") | N13: =IFERROR((E13/H13),"") | O13: =IFERROR(((F13+G13-I13)/H13),"")
B14: السادس / 12 | H14: =SUM(C14:G14) -> 0 | I14: 0 | J14: =IFERROR(SUM(C14:F14)/H14*100,"") | L14: =B14 -> السادس / 12 | M14: =IFERROR(((C14+D14)/H14),"") | N14: =IFERROR((E14/H14),"") | O14: =IFERROR(((F14+G14-I14)/H14),"")
B15: السادس / 13 | H15: =SUM(C15:G15) -> 0 | I15: 0 | J15: =IFERROR(SUM(C15:F15)/H15*100,"") | L15: =B15 -> السادس / 13 | M15: =IFERROR(((C15+D15)/H15),"") | N15: =IFERROR((E15/H15),"") | O15: =IFERROR(((F15+G15-I15)/H15),"")
... B21: السادس / 19 | H21: =SUM(C21:G21) -> 0 | I21: 0 | J21: =IFERROR(SUM(C21:F21)/H21*100,"") | L21: =B21 -> السادس / 19 | M21: =IFERROR(((C21+D21)/H21),"") | N21: =IFERROR((E21/H21),"") | O21: =IFERROR(((F21+G21-I21)/H21),"")
B22: السادس / 20 | C22: 1 | D22: 1 | E22: 1 | F22: 1 | G22: 1 | H22: =SUM(C22:G22) -> 5 | I22: 0 | J22: =IFERROR(SUM(C22:F22)/H22*100,"") -> 80 | L22: =B22 -> السادس / 20 | M22: =IFERROR(((C22+D22)/H22),"") -> 0.4 | N22: =IFERROR((E22/H22),"") -> 0.2 | O22: =IFERROR(((F22+G22-I22)/H22),"") -> 0.4
B23: المجموع | C23: =SUM(C3:C22) -> 2 | D23: =SUM(D3:D22) -> 2 | E23: =SUM(E3:E22) -> 3 | F23: =SUM(F3:F22) -> 4 | G23: =SUM(G3:G22) -> 5 | H23: =SUM(H3:H22) -> 16 | I23: =SUM(I3:I22) -> 0 | J23: =SUM(C23:F23)/H23*100 -> 68.75 | L23: المجموع | M23: =(C23+D23)/H23 -> 0.25 | N23: =E23/H23 -> 0.1875 | O23: =((F23+G23-I23)/H23) -> 0.5625
B24: مجموع الطلبة | C24: =D23+C23 -> 4 | E24: =E23 -> 3 | F24: =G23+F23 -> 9
N45: النموذج من إعداد: | P45: ='التحليل العام للنتائج'!J3 -> مدرسة معاذ بن جبل للتعليم الأساسي (5-12)

Sheet السابع
B2: الصف/ الشعبة | C2: أ | D2: ب | E2: ج | F2: د | G2: هـ | H2: مجموع المقيدين | I2: عدد المنقطعين | J2: نسبة النجاح | L2: الصف / الشعبة | M2: القوة | N2: التوسط | O2: الضعف | Q2: مستوى أداء الطلبة في: | T2: ='التحليل العام للنتائج'!Z3 -> التربية الإسلامية
B3: السابع / 1 | C3: 1 | D3: 1 | E3: 6 | F3: 1 | G3: 1 | H3: =SUM(C3:G3) -> 10 | I3: 0 | J3: =IFERROR(SUM(C3:F3)/H3*100,"") -> 90 | L3: =B3 -> السابع / 1 | M3: =IFERROR(((C3+D3)/H3),"") -> 0.2 | N3: =IFERROR((E3/H3),"") -> 0.6 | O3: =IFERROR(((F3+G3-I3)/H3),"") -> 0.2 | Q3: نسبة القوة إلى الضعف في الصف:
B4: السابع / 2 | H4: =SUM(C4:G4) -> 0 | I4: 0 | J4: =IFERROR(SUM(C4:F4)/H4*100,"") | L4: =B4 -> السابع / 2 | M4: =IFERROR(((C4+D4)/H4),"") | N4: =IFERROR((E4/H4),"") | O4: =IFERROR(((F4+G4-I4)/H4),"")
B5: السابع / 3 | H5: =SUM(C5:G5) -> 0 | I5: 0 | J5: =IFERROR(SUM(C5:F5)/H5*100,"") | L5: =B5 -> السابع / 3 | M5: =IFERROR(((C5+D5)/H5),"") | N5: =IFERROR((E5/H5),"") | O5: =IFERROR(((F5+G5-I5)/H5),"")
B6: السابع / 4 | H6: =SUM(C6:G6) -> 0 | I6: 0 | J6: =IFERROR(SUM(C6:F6)/H6*100,"") | L6: =B6 -> السابع / 4 | M6: =IFERROR(((C6+D6)/H6),"") | N6: =IFERROR((E6/H6),"") | O6: =IFERROR(((F6+G6-I6)/H6),"")
B7: السابع / 5 | H7: =SUM(C7:G7) -> 0 | I7: 0 | J7: =IFERROR(SUM(C7:F7)/H7*100,"") | L7: =B7 -> السابع / 5 | M7: =IFERROR(((C7+D7)/H7),"") | N7: =IFERROR((E7/H7),"") | O7: =IFERROR(((F7+G7-I7)/H7),"")
B8: السابع / 6 | H8: =SUM(C8:G8) -> 0 | I8: 0 | J8: =IFERROR(SUM(C8:F8)/H8*100,"") | L8: =B8 -> السابع / 6 | M8: =IFERROR(((C8+D8)/H8),"") | N8: =IFERROR((E8/H8),"") | O8: =IFERROR(((F8+G8-I8)/H8),"")
B9: السابع / 7 | H9: =SUM(C9:G9) -> 0 | I9: 0 | J9: =IFERROR(SUM(C9:F9)/H9*100,"") | L9: =B9 -> السابع / 7 | M9: =IFERROR(((C9+D9)/H9),"") | N9: =IFERROR((E9/H9),"") | O9: =IFERROR(((F9+G9-I9)/H9),"")
B10: السابع / 8 | H10: =SUM(C10:G10) -> 0 | I10: 0 | J10: =IFERROR(SUM(C10:F10)/H10*100,"") | L10: =B10 -> السابع / 8 | M10: =IFERROR(((C10+D10)/H10),"") | N10: =IFERROR((E10/H10),"") | O10: =IFERROR(((F10+G10-I10)/H10),"")
B11: السابع / 9 | H11: =SUM(C11:G11) -> 0 | I11: 0 | J11: =IFERROR(SUM(C11:F11)/H11*100,"") | L11: =B11 -> السابع / 9 | M11: =IFERROR(((C11+D11)/H11),"") | N11: =IFERROR((E11/H11),"") | O11: =IFERROR(((F11+G11-I11)/H11),"")
B12: السابع / 10 | H12: =SUM(C12:G12) -> 0 | I12: 0 | J12: =IFERROR(SUM(C12:F12)/H12*100,"") | L12: =B12 -> السابع / 10 | M12: =IFERROR(((C12+D12)/H12),"") | N12: =IFERROR((E12/H12),"") | O12: =IFERROR(((F12+G12-I12)/H12),"")
B13: السابع / 11 | H13: =SUM(C13:G13) -> 0 | I13: 0 | J13: =IFERROR(SUM(C13:F13)/H13*100,"") | L13: =B13 -> السابع / 11 | M13: =IFERROR(((C13+D13)/H13),"") | N13: =IFERROR((E13/H13),"") | O13: =IFERROR(((F13+G13-I13)/H13),"")
B14: السابع / 12 | H14: =SUM(C14:G14) -> 0 | I14: 0 | J14: =IFERROR(SUM(C14:F14)/H14*100,"") | L14: =B14 -> السابع / 12 | M14: =IFERROR(((C14+D14)/H14),"") | N14: =IFERROR((E14/H14),"") | O14: =IFERROR(((F14+G14-I14)/H14),"")
B15: السابع / 13 | H15: =SUM(C15:G15) -> 0 | I15: 0 | J15: =IFERROR(SUM(C15:F15)/H15*100,"") | L15: =B15 -> السابع / 13 | M15: =IFERROR(((C15+D15)/H15),"") | N15: =IFERROR((E15/H15),"") | O15: =IFERROR(((F15+G15-I15)/H15),"")
... B21: السابع / 19 | H21: =SUM(C21:G21) -> 0 | I21: 0 | J21: =IFERROR(SUM(C21:F21)/H21*100,"") | L21: =B21 -> السابع / 19 | M21: =IFERROR(((C21+D21)/H21),"") | N21: =IFERROR((E21/H21),"") | O21: =IFERROR(((F21+G21-I21)/H21),"")
B22: السابع / 20 | C22: 1 | D22: 1 | E22: 1 | F22: 1 | G22: 1 | H22: =SUM(C22:G22) -> 5 | I22: 0 | J22: =IFERROR(SUM(C22:F22)/H22*100,"") -> 80 | L22: =B22 -> السابع / 20 | M22: =IFERROR(((C22+D22)/H22),"") -> 0.4 | N22: =IFERROR((E22/H22),"") -> 0.2 | O22: =IFERROR(((F22+G22-I22)/H22),"") -> 0.4
B23: المجموع | C23: =SUM(C3:C22) -> 2 | D23: =SUM(D3:D22) -> 2 | E23: =SUM(E3:E22) -> 7 | F23: =SUM(F3:F22) -> 2 | G23: =SUM(G3:G22) -> 2 | H23: =SUM(H3:H22) -> 15 | I23: =SUM(I3:I22) -> 0 | J23: =SUM(C23:F23)/H23*100 -> 86.666667 | L23: المجموع | M23: =(C23+D23)/H23 -> 0.26666667 | N23: =E23/H23 -> 0.46666667 | O23: =((F23+G23-I23)/H23) -> 0.26666667
B24: مجموع الطلبة | C24: =D23+C23 -> 4 | E24: =E23 -> 7 | F24: =G23+F23 -> 4
N45: النموذج من إعداد: | P45: ='التحليل العام للنتائج'!J3 -> مدرسة معاذ بن جبل للتعليم الأساسي (5-12)

Sheet الثامن
B2: الصف/ الشعبة | C2: أ | D2: ب | E2: ج | F2: د | G2: هـ | H2: مجموع المقيدين | I2: عدد المنقطعين | J2: نسبة النجاح | L2: الصف / الشعبة | M2: القوة | N2: التوسط | O2: الضعف | Q2: مستوى أداء الطلبة في: | T2: ='التحليل العام للنتائج'!Z3 -> التربية الإسلامية
B3: الثامن / 1 | C3: 1 | D3: 1 | E3: 1 | F3: 1 | G3: 1 | H3: =SUM(C3:G3) -> 5 | I3: 1 | J3: =IFERROR(SUM(C3:F3)/H3*100,"") -> 80 | L3: =B3 -> الثامن / 1 | M3: =IFERROR(((C3+D3)/H3),"") -> 0.4 | N3: =IFERROR((E3/H3),"") -> 0.2 | O3: =IFERROR(((F3+G3-I3)/H3),"") -> 0.2 | Q3: نسبة القوة إلى الضعف في الصف:
B4: الثامن / 2 | H4: =SUM(C4:G4) -> 0 | I4: 0 | J4: =IFERROR(SUM(C4:F4)/H4*100,"") | L4: =B4 -> الثامن / 2 | M4: =IFERROR(((C4+D4)/H4),"") | N4: =IFERROR((E4/H4),"") | O4: =IFERROR(((F4+G4-I4)/H4),"")
B5: الثامن / 3 | H5: =SUM(C5:G5) -> 0 | I5: 0 | J5: =IFERROR(SUM(C5:F5)/H5*100,"") | L5: =B5 -> الثامن / 3 | M5: =IFERROR(((C5+D5)/H5),"") | N5: =IFERROR((E5/H5),"") | O5: =IFERROR(((F5+G5-I5)/H5),"")
B6: الثامن / 4 | H6: =SUM(C6:G6) -> 0 | I6: 0 | J6: =IFERROR(SUM(C6:F6)/H6*100,"") | L6: =B6 -> الثامن / 4 | M6: =IFERROR(((C6+D6)/H6),"") | N6: =IFERROR((E6/H6),"") | O6: =IFERROR(((F6+G6-I6)/H6),"")
B7: الثامن / 5 | H7: =SUM(C7:G7) -> 0 | I7: 0 | J7: =IFERROR(SUM(C7:F7)/H7*100,"") | L7: =B7 -> الثامن / 5 | M7: =IFERROR(((C7+D7)/H7),"") | N7: =IFERROR((E7/H7),"") | O7: =IFERROR(((F7+G7-I7)/H7),"")
B8: الثامن / 6 | H8: =SUM(C8:G8) -> 0 | I8: 0 | J8: =IFERROR(SUM(C8:F8)/H8*100,"") | L8: =B8 -> الثامن / 6 | M8: =IFERROR(((C8+D8)/H8),"") | N8: =IFERROR((E8/H8),"") | O8: =IFERROR(((F8+G8-I8)/H8),"")
B9: الثامن / 7 | H9: =SUM(C9:G9) -> 0 | I9: 0 | J9: =IFERROR(SUM(C9:F9)/H9*100,"") | L9: =B9 -> الثامن / 7 | M9: =IFERROR(((C9+D9)/H9),"") | N9: =IFERROR((E9/H9),"") | O9: =IFERROR(((F9+G9-I9)/H9),"")
B10: الثامن / 8 | H10: =SUM(C10:G10) -> 0 | I10: 0 | J10: =IFERROR(SUM(C10:F10)/H10*100,"") | L10: =B10 -> الثامن / 8 | M10: =IFERROR(((C10+D10)/H10),"") | N10: =IFERROR((E10/H10),"") | O10: =IFERROR(((F10+G10-I10)/H10),"")
B11: الثامن / 9 | H11: =SUM(C11:G11) -> 0 | I11: 0 | J11: =IFERROR(SUM(C11:F11)/H11*100,"") | L11: =B11 -> الثامن / 9 | M11: =IFERROR(((C11+D11)/H11),"") | N11: =IFERROR((E11/H11),"") | O11: =IFERROR(((F11+G11-I11)/H11),"")
B12: الثامن / 10 | H12: =SUM(C12:G12) -> 0 | I12: 0 | J12: =IFERROR(SUM(C12:F12)/H12*100,"") | L12: =B12 -> الثامن / 10 | M12: =IFERROR(((C12+D12)/H12),"") | N12: =IFERROR((E12/H12),"") | O12: =IFERROR(((F12+G12-I12)/H12),"")
B13: الثامن / 11 | H13: =SUM(C13:G13) -> 0 | I13: 0 | J13: =IFERROR(SUM(C13:F13)/H13*100,"") | L13: =B13 -> الثامن / 11 | M13: =IFERROR(((C13+D13)/H13),"") | N13: =IFERROR((E13/H13),"") | O13: =IFERROR(((F13+G13-I13)/H13),"")
B14: الثامن / 12 | H14: =SUM(C14:G14) -> 0 | I14: 0 | J14: =IFERROR(SUM(C14:F14)/H14*100,"") | L14: =B14 -> الثامن / 12 | M14: =IFERROR(((C14+D14)/H14),"") | N14: =IFERROR((E14/H14),"") | O14: =IFERROR(((F14+G14-I14)/H14),"")
B15: الثامن / 13 | H15: =SUM(C15:G15) -> 0 | I15: 0 | J15: =IFERROR(SUM(C15:F15)/H15*100,"") | L15: =B15 -> الثامن / 13 | M15: =IFERROR(((C15+D15)/H15),"") | N15: =IFERROR((E15/H15),"") | O15: =IFERROR(((F15+G15-I15)/H15),"")
... B21: الثامن / 19 | H21: =SUM(C21:G21) -> 0 | I21: 0 | J21: =IFERROR(SUM(C21:F21)/H21*100,"") | L21: =B21 -> الثامن / 19 | M21: =IFERROR(((C21+D21)/H21),"") | N21: =IFERROR((E21/H21),"") | O21: =IFERROR(((F21+G21-I21)/H21),"")
B22: الثامن / 20 | C22: 1 | D22: 1 | E22: 1 | F22: 1 | G22: 1 | H22: =SUM(C22:G22) -> 5 | I22: 1 | J22: =IFERROR(SUM(C22:F22)/H22*100,"") -> 80 | L22: =B22 -> الثامن / 20 | M22: =IFERROR(((C22+D22)/H22),"") -> 0.4 | N22: =IFERROR((E22/H22),"") -> 0.2 | O22: =IFERROR(((F22+G22-I22)/H22),"") -> 0.2
B23: المجموع | C23: =SUM(C3:C22) -> 2 | D23: =SUM(D3:D22) -> 2 | E23: =SUM(E3:E22) -> 2 | F23: =SUM(F3:F22) -> 2 | G23: =SUM(G3:G22) -> 2 | H23: =SUM(H3:H22) -> 10 | I23: =SUM(I3:I22) -> 2 | J23: =SUM(C23:F23)/H23*100 -> 80 | L23: المجموع | M23: =(C23+D23)/H23 -> 0.4 | N23: =E23/H23 -> 0.2 | O23: =((F23+G23-I23)/H23) -> 0.2
B24: مجموع الطلبة | C24: =D23+C23 -> 4 | E24: =E23 -> 2 | F24: =G23+F23 -> 4
N45: النموذج من إعداد: | P45: ='التحليل العام للنتائج'!J3 -> مدرسة معاذ بن جبل للتعليم الأساسي (5-12)

Sheet التاسع
B2: الصف/ الشعبة | C2: أ | D2: ب | E2: ج | F2: د | G2: هـ | H2: مجموع المقيدين | I2: عدد المنقطعين | J2: نسبة النجاح | L2: الصف / الشعبة | M2: القوة | N2: التوسط | O2: الضعف | Q2: مستوى أداء الطلبة في: | T2: ='التحليل العام للنتائج'!Z3 -> التربية الإسلامية
B3: التاسع / 1 | C3: 1 | D3: 1 | E3: 1 | F3: 1 | G3: 1 | H3: =SUM(C3:G3) -> 5 | I3: 0 | J3: =IFERROR(SUM(C3:F3)/H3*100,"") -> 80 | L3: =B3 -> التاسع / 1 | M3: =IFERROR(((C3+D3)/H3),"") -> 0.4 | N3: =IFERROR((E3/H3),"") -> 0.2 | O3: =IFERROR(((F3+G3-I3)/H3),"") -> 0.4 | Q3: نسبة القوة إلى الضعف في الصف:
B4: التاسع / 2 | H4: =SUM(C4:G4) -> 0 | I4: 0 | J4: =IFERROR(SUM(C4:F4)/H4*100,"") | L4: =B4 -> التاسع / 2 | M4: =IFERROR(((C4+D4)/H4),"") | N4: =IFERROR((E4/H4),"") | O4: =IFERROR(((F4+G4-I4)/H4),"")
B5: التاسع / 3 | H5: =SUM(C5:G5) -> 0 | I5: 0 | J5: =IFERROR(SUM(C5:F5)/H5*100,"") | L5: =B5 -> التاسع / 3 | M5: =IFERROR(((C5+D5)/H5),"") | N5: =IFERROR((E5/H5),"") | O5: =IFERROR(((F5+G5-I5)/H5),"")
B6: التاسع / 4 | H6: =SUM(C6:G6) -> 0 | I6: 0 | J6: =IFERROR(SUM(C6:F6)/H6*100,"") | L6: =B6 -> التاسع / 4 | M6: =IFERROR(((C6+D6)/H6),"") | N6: =IFERROR((E6/H6),"") | O6: =IFERROR(((F6+G6-I6)/H6),"")
B7: التاسع / 5 | H7: =SUM(C7:G7) -> 0 | I7: 0 | J7: =IFERROR(SUM(C7:F7)/H7*100,"") | L7: =B7 -> التاسع / 5 | M7: =IFERROR(((C7+D7)/H7),"") | N7: =IFERROR((E7/H7),"") | O7: =IFERROR(((F7+G7-I7)/H7),"")
B8: التاسع / 6 | H8: =SUM(C8:G8) -> 0 | I8: 0 | J8: =IFERROR(SUM(C8:F8)/H8*100,"") | L8: =B8 -> التاسع / 6 | M8: =IFERROR(((C8+D8)/H8),"") | N8: =IFERROR((E8/H8),"") | O8: =IFERROR(((F8+G8-I8)/H8),"")
B9: التاسع / 7 | H9: =SUM(C9:G9) -> 0 | I9: 0 | J9: =IFERROR(SUM(C9:F9)/H9*100,"") | L9: =B9 -> التاسع / 7 | M9: =IFERROR(((C9+D9)/H9),"") | N9: =IFERROR((E9/H9),"") | O9: =IFERROR(((F9+G9-I9)/H9),"")
B10: التاسع / 8 | H10: =SUM(C10:G10) -> 0 | I10: 0 | J10: =IFERROR(SUM(C10:F10)/H10*100,"") | L10: =B10 -> التاسع / 8 | M10: =IFERROR(((C10+D10)/H10),"") | N10: =IFERROR((E10/H10),"") | O10: =IFERROR(((F10+G10-I10)/H10),"")
B11: التاسع / 9 | H11: =SUM(C11:G11) -> 0 | I11: 0 | J11: =IFERROR(SUM(C11:F11)/H11*100,"") | L11: =B11 -> التاسع / 9 | M11: =IFERROR(((C11+D11)/H11),"") | N11: =IFERROR((E11/H11),"") | O11: =IFERROR(((F11+G11-I11)/H11),"")
B12: التاسع / 10 | H12: =SUM(C12:G12) -> 0 | I12: 0 | J12: =IFERROR(SUM(C12:F12)/H12*100,"") | L12: =B12 -> التاسع / 10 | M12: =IFERROR(((C12+D12)/H12),"") | N12: =IFERROR((E12/H12),"") | O12: =IFERROR(((F12+G12-I12)/H12),"")
B13: التاسع / 11 | H13: =SUM(C13:G13) -> 0 | I13: 0 | J13: =IFERROR(SUM(C13:F13)/H13*100,"") | L13: =B13 -> التاسع / 11 | M13: =IFERROR(((C13+D13)/H13),"") | N13: =IFERROR((E13/H13),"") | O13: =IFERROR(((F13+G13-I13)/H13),"")
B14: التاسع / 12 | H14: =SUM(C14:G14) -> 0 | I14: 0 | J14: =IFERROR(SUM(C14:F14)/H14*100,"") | L14: =B14 -> التاسع / 12 | M14: =IFERROR(((C14+D14)/H14),"") | N14: =IFERROR((E14/H14),"") | O14: =IFERROR(((F14+G14-I14)/H14),"")
B15: التاسع / 13 | H15: =SUM(C15:G15) -> 0 | I15: 0 | J15: =IFERROR(SUM(C15:F15)/H15*100,"") | L15: =B15 -> التاسع / 13 | M15: =IFERROR(((C15+D15)/H15),"") | N15: =IFERROR((E15/H15),"") | O15: =IFERROR(((F15+G15-I15)/H15),"")
... B21: التاسع / 19 | H21: =SUM(C21:G21) -> 0 | I21: 0 | J21: =IFERROR(SUM(C21:F21)/H21*100,"") | L21: =B21 -> التاسع / 19 | M21: =IFERROR(((C21+D21)/H21),"") | N21: =IFERROR((E21/H21),"") | O21: =IFERROR(((F21+G21-I21)/H21),"")
B22: التاسع / 20 | C22: 1 | D22: 1 | E22: 1 | F22: 1 | G22: 1 | H22: =SUM(C22:G22) -> 5 | I22: 0 | J22: =IFERROR(SUM(C22:F22)/H22*100,"") -> 80 | L22: =B22 -> التاسع / 20 | M22: =IFERROR(((C22+D22)/H22),"") -> 0.4 | N22: =IFERROR((E22/H22),"") -> 0.2 | O22: =IFERROR(((F22+G22-I22)/H22),"") -> 0.4
B23: المجموع | C23: =SUM(C3:C22) -> 2 | D23: =SUM(D3:D22) -> 2 | E23: =SUM(E3:E22) -> 2 | F23: =SUM(F3:F22) -> 2 | G23: =SUM(G3:G22) -> 2 | H23: =SUM(H3:H22) -> 10 | I23: =SUM(I3:I22) -> 0 | J23: =SUM(C23:F23)/H23*100 -> 80 | L23: المجموع | M23: =(C23+D23)/H23 -> 0.4 | N23: =E23/H23 -> 0.2 | O23: =((F23+G23-I23)/H23) -> 0.4
B24: مجموع الطلبة | C24: =D23+C23 -> 4 | E24: =E23 -> 2 | F24: =G23+F23 -> 4
N45: النموذج من إعداد: | P45: ='التحليل العام للنتائج'!J3 -> مدرسة معاذ بن جبل للتعليم الأساسي (5-12)

Sheet العاشر
B2: الصف/ الشعبة | C2: أ | D2: ب | E2: ج | F2: د | G2: هـ | H2: مجموع المقيدين | I2: عدد المنقطعين | J2: نسبة النجاح | L2: الصف / الشعبة | M2: القوة | N2: التوسط | O2: الضعف | Q2: مستوى أداء الطلبة في: | T2: ='التحليل العام للنتائج'!Z3 -> التربية الإسلامية
B3: العاشر / 1 | C3: 1 | D3: 1 | E3: 1 | F3: 1 | G3: 1 | H3: =SUM(C3:G3) -> 5 | I3: 0 | J3: =IFERROR(SUM(C3:F3)/H3*100,"") -> 80 | L3: =B3 -> العاشر / 1 | M3: =IFERROR(((C3+D3)/H3),"") -> 0.4 | N3: =IFERROR((E3/H3),"") -> 0.2 | O3: =IFERROR(((F3+G3-I3)/H3),"") -> 0.4 | Q3: نسبة القوة إلى الضعف في الصف:
B4: العاشر / 2 | H4: =SUM(C4:G4) -> 0 | I4: 0 | J4: =IFERROR(SUM(C4:F4)/H4*100,"") | L4: =B4 -> العاشر / 2 | M4: =IFERROR(((C4+D4)/H4),"") | N4: =IFERROR((E4/H4),"") | O4: =IFERROR(((F4+G4-I4)/H4),"")
B5: العاشر / 3 | H5: =SUM(C5:G5) -> 0 | I5: 0 | J5: =IFERROR(SUM(C5:F5)/H5*100,"") | L5: =B5 -> العاشر / 3 | M5: =IFERROR(((C5+D5)/H5),"") | N5: =IFERROR((E5/H5),"") | O5: =IFERROR(((F5+G5-I5)/H5),"")
B6: العاشر / 4 | H6: =SUM(C6:G6) -> 0 | I6: 0 | J6: =IFERROR(SUM(C6:F6)/H6*100,"") | L6: =B6 -> العاشر / 4 | M6: =IFERROR(((C6+D6)/H6),"") | N6: =IFERROR((E6/H6),"") | O6: =IFERROR(((F6+G6-I6)/H6),"")
B7: العاشر / 5 | H7: =SUM(C7:G7) -> 0 | I7: 0 | J7: =IFERROR(SUM(C7:F7)/H7*100,"") | L7: =B7 -> العاشر / 5 | M7: =IFERROR(((C7+D7)/H7),"") | N7: =IFERROR((E7/H7),"") | O7: =IFERROR(((F7+G7-I7)/H7),"")
B8: العاشر / 6 | H8: =SUM(C8:G8) -> 0 | I8: 0 | J8: =IFERROR(SUM(C8:F8)/H8*100,"") | L8: =B8 -> العاشر / 6 | M8: =IFERROR(((C8+D8)/H8),"") | N8: =IFERROR((E8/H8),"") | O8: =IFERROR(((F8+G8-I8)/H8),"")
B9: العاشر / 7 | H9: =SUM(C9:G9) -> 0 | I9: 0 | J9: =IFERROR(SUM(C9:F9)/H9*100,"") | L9: =B9 -> العاشر / 7 | M9: =IFERROR(((C9+D9)/H9),"") | N9: =IFERROR((E9/H9),"") | O9: =IFERROR(((F9+G9-I9)/H9),"")
B10: العاشر / 8 | H10: =SUM(C10:G10) -> 0 | I10: 0 | J10: =IFERROR(SUM(C10:F10)/H10*100,"") | L10: =B10 -> العاشر / 8 | M10: =IFERROR(((C10+D10)/H10),"") | N10: =IFERROR((E10/H10),"") | O10: =IFERROR(((F10+G10-I10)/H10),"")
B11: العاشر / 9 | H11: =SUM(C11:G11) -> 0 | I11: 0 | J11: =IFERROR(SUM(C11:F11)/H11*100,"") | L11: =B11 -> العاشر / 9 | M11: =IFERROR(((C11+D11)/H11),"") | N11: =IFERROR((E11/H11),"") | O11: =IFERROR(((F11+G11-I11)/H11),"")
B12: العاشر / 10 | H12: =SUM(C12:G12) -> 0 | I12: 0 | J12: =IFERROR(SUM(C12:F12)/H12*100,"") | L12: =B12 -> العاشر / 10 | M12: =IFERROR(((C12+D12)/H12),"") | N12: =IFERROR((E12/H12),"") | O12: =IFERROR(((F12+G12-I12)/H12),"")
B13: العاشر / 11 | H13: =SUM(C13:G13) -> 0 | I13: 0 | J13: =IFERROR(SUM(C13:F13)/H13*100,"") | L13: =B13 -> العاشر / 11 | M13: =IFERROR(((C13+D13)/H13),"") | N13: =IFERROR((E13/H13),"") | O13: =IFERROR(((F13+G13-I13)/H13),"")
B14: العاشر / 12 | H14: =SUM(C14:G14) -> 0 | I14: 0 | J14: =IFERROR(SUM(C14:F14)/H14*100,"") | L14: =B14 -> العاشر / 12 | M14: =IFERROR(((C14+D14)/H14),"") | N14: =IFERROR((E14/H14),"") | O14: =IFERROR(((F14+G14-I14)/H14),"")
B15: العاشر / 13 | H15: =SUM(C15:G15) -> 0 | I15: 0 | J15: =IFERROR(SUM(C15:F15)/H15*100,"") | L15: =B15 -> العاشر / 13 | M15: =IFERROR(((C15+D15)/H15),"") | N15: =IFERROR((E15/H15),"") | O15: =IFERROR(((F15+G15-I15)/H15),"")
... B21: العاشر / 19 | H21: =SUM(C21:G21) -> 0 | I21: 0 | J21: =IFERROR(SUM(C21:F21)/H21*100,"") | L21: =B21 -> العاشر / 19 | M21: =IFERROR(((C21+D21)/H21),"") | N21: =IFERROR((E21/H21),"") | O21: =IFERROR(((F21+G21-I21)/H21),"")
B22: العاشر / 20 | C22: 1 | D22: 1 | E22: 1 | F22: 1 | G22: 1 | H22: =SUM(C22:G22) -> 5 | I22: 0 | J22: =IFERROR(SUM(C22:F22)/H22*100,"") -> 80 | L22: =B22 -> العاشر / 20 | M22: =IFERROR(((C22+D22)/H22),"") -> 0.4 | N22: =IFERROR((E22/H22),"") -> 0.2 | O22: =IFERROR(((F22+G22-I22)/H22),"") -> 0.4
B23: المجموع | C23: =SUM(C3:C22) -> 2 | D23: =SUM(D3:D22) -> 2 | E23: =SUM(E3:E22) -> 2 | F23: =SUM(F3:F22) -> 2 | G23: =SUM(G3:G22) -> 2 | H23: =SUM(H3:H22) -> 10 | I23: =SUM(I3:I22) -> 0 | J23: =SUM(C23:F23)/H23*100 -> 80 | L23: المجموع | M23: =(C23+D23)/H23 -> 0.4 | N23: =E23/H23 -> 0.2 | O23: =((F23+G23-I23)/H23) -> 0.4
B24: مجموع الطلبة | C24: =D23+C23 -> 4 | E24: =E23 -> 2 | F24: =G23+F23 -> 4
N45: النموذج من إعداد: | P45: ='التحليل العام للنتائج'!J3 -> مدرسة معاذ بن جبل للتعليم الأساسي (5-12)

Sheet الحادي عشر
B2: شعب الحادي عشر | C2: أ | D2: ب | E2: ج | F2: د | G2: هـ | H2: مجموع المقيدين | I2: عدد المنقطعين | J2: نسبة النجاح | L2: الصف الحادي عشر | M2: القوة | N2: التوسط | O2: الضعف | Q2: مستوى أداء الطلبة في: | T2: ='التحليل العام للنتائج'!Z3 -> التربية الإسلامية
B3: الحادي عشر/ 1 | C3: 1 | D3: 1 | E3: 1 | F3: 1 | G3: 1 | H3: =SUM(C3:G3) -> 5 | I3: 0 | J3: =IFERROR(SUM(C3:F3)/H3*100,"") -> 80 | L3: =B3 -> الحادي عشر/ 1 | M3: =IFERROR(((C3+D3)/H3),"") -> 0.4 | N3: =IFERROR((E3/H3),"") -> 0.2 | O3: =IFERROR(((F3+G3-I3)/H3),"") -> 0.4 | Q3: نسبة القوة إلى الضعف في الصف:
B4: الحادي عشر/ 2 | H4: =SUM(C4:G4) -> 0 | I4: 0 | J4: =IFERROR(SUM(C4:F4)/H4*100,"") | L4: =B4 -> الحادي عشر/ 2 | M4: =IFERROR(((C4+D4)/H4),"") | N4: =IFERROR((E4/H4),"") | O4: =IFERROR(((F4+G4-I4)/H4),"")
B5: الحادي عشر/ 3 | H5: =SUM(C5:G5) -> 0 | I5: 0 | J5: =IFERROR(SUM(C5:F5)/H5*100,"") | L5: =B5 -> الحادي عشر/ 3 | M5: =IFERROR(((C5+D5)/H5),"") | N5: =IFERROR((E5/H5),"") | O5: =IFERROR(((F5+G5-I5)/H5),"")
B6: الحادي عشر/ 4 | H6: =SUM(C6:G6) -> 0 | I6: 0 | J6: =IFERROR(SUM(C6:F6)/H6*100,"") | L6: =B6 -> الحادي عشر/ 4 | M6: =IFERROR(((C6+D6)/H6),"") | N6: =IFERROR((E6/H6),"") | O6: =IFERROR(((F6+G6-I6)/H6),"")
B7: الحادي عشر/ 5 | H7: =SUM(C7:G7) -> 0 | I7: 0 | J7: =IFERROR(SUM(C7:F7)/H7*100,"") | L7: =B7 -> الحادي عشر/ 5 | M7: =IFERROR(((C7+D7)/H7),"") | N7: =IFERROR((E7/H7),"") | O7: =IFERROR(((F7+G7-I7)/H7),"")
B8: الحادي عشر/ 6 | H8: =SUM(C8:G8) -> 0 | I8: 0 | J8: =IFERROR(SUM(C8:F8)/H8*100,"") | L8: =B8 -> الحادي عشر/ 6 | M8: =IFERROR(((C8+D8)/H8),"") | N8: =IFERROR((E8/H8),"") | O8: =IFERROR(((F8+G8-I8)/H8),"")
B9: الحادي عشر/ 7 | H9: =SUM(C9:G9) -> 0 | I9: 0 | J9: =IFERROR(SUM(C9:F9)/H9*100,"") | L9: =B9 -> الحادي عشر/ 7 | M9: =IFERROR(((C9+D9)/H9),"") | N9: =IFERROR((E9/H9),"") | O9: =IFERROR(((F9+G9-I9)/H9),"")
B10: الحادي عشر/ 8 | H10: =SUM(C10:G10) -> 0 | I10: 0 | J10: =IFERROR(SUM(C10:F10)/H10*100,"") | L10: =B10 -> الحادي عشر/ 8 | M10: =IFERROR(((C10+D10)/H10),"") | N10: =IFERROR((E10/H10),"") | O10: =IFERROR(((F10+G10-I10)/H10),"")
B11: الحادي عشر/ 9 | H11: =SUM(C11:G11) -> 0 | I11: 0 | J11: =IFERROR(SUM(C11:F11)/H11*100,"") | L11: =B11 -> الحادي عشر/ 9 | M11: =IFERROR(((C11+D11)/H11),"") | N11: =IFERROR((E11/H11),"") | O11: =IFERROR(((F11+G11-I11)/H11),"")
B12: الحادي عشر/ 10 | H12: =SUM(C12:G12) -> 0 | I12: 0 | J12: =IFERROR(SUM(C12:F12)/H12*100,"") | L12: =B12 -> الحادي عشر/ 10 | M12: =IFERROR(((C12+D12)/H12),"") | N12: =IFERROR((E12/H12),"") | O12: =IFERROR(((F12+G12-I12)/H12),"")
B13: الحادي عشر/ 11 | H13: =SUM(C13:G13) -> 0 | I13: 0 | J13: =IFERROR(SUM(C13:F13)/H13*100,"") | L13: =B13 -> الحادي عشر/ 11 | M13: =IFERROR(((C13+D13)/H13),"") | N13: =IFERROR((E13/H13),"") | O13: =IFERROR(((F13+G13-I13)/H13),"")
B14: الحادي عشر/ 12 | H14: =SUM(C14:G14) -> 0 | I14: 0 | J14: =IFERROR(SUM(C14:F14)/H14*100,"") | L14: =B14 -> الحادي عشر/ 12 | M14: =IFERROR(((C14+D14)/H14),"") | N14: =IFERROR((E14/H14),"") | O14: =IFERROR(((F14+G14-I14)/H14),"")
B15: الحادي عشر/ 13 | H15: =SUM(C15:G15) -> 0 | I15: 0 | J15: =IFERROR(SUM(C15:F15)/H15*100,"") | L15: =B15 -> الحادي عشر/ 13 | M15: =IFERROR(((C15+D15)/H15),"") | N15: =IFERROR((E15/H15),"") | O15: =IFERROR(((F15+G15-I15)/H15),"")
... B21: الحادي عشر/ 19 | H21: =SUM(C21:G21) -> 0 | I21: 0 | J21: =IFERROR(SUM(C21:F21)/H21*100,"") | L21: =B21 -> الحادي عشر/ 19 | M21: =IFERROR(((C21+D21)/H21),"") | N21: =IFERROR((E21/H21),"") | O21: =IFERROR(((F21+G21-I21)/H21),"")
B22: الحادي عشر/ 20 | C22: 1 | D22: 1 | E22: 1 | F22: 1 | G22: 1 | H22: =SUM(C22:G22) -> 5 | I22: 0 | J22: =IFERROR(SUM(C22:F22)/H22*100,"") -> 80 | L22: =B22 -> الحادي عشر/ 20 | M22: =IFERROR(((C22+D22)/H22),"") -> 0.4 | N22: =IFERROR((E22/H22),"") -> 0.2 | O22: =IFERROR(((F22+G22-I22)/H22),"") -> 0.4
B23: الحادي عشر/ 21 | C23: 1 | D23: 1 | E23: 1 | F23: 1 | G23: 1 | H23: =SUM(C23:G23) -> 5 | I23: 0 | J23: =IFERROR(SUM(C23:F23)/H23*100,"") -> 80 | L23: =B23 -> الحادي عشر/ 21 | M23: =IFERROR(((C23+D23)/H23),"") -> 0.4 | N23: =IFERROR((E23/H23),"") -> 0.2 | O23: =IFERROR(((F23+G23-I23)/H23),"") -> 0.4
B24: المجموع | C24: =SUM(C3:C23) -> 3 | D24: =SUM(D3:D23) -> 3 | E24: =SUM(E3:E23) -> 3 | F24: =SUM(F3:F23) -> 3 | G24: =SUM(G3:G23) -> 3 | H24: =SUM(H3:H23) -> 15 | I24: =SUM(I3:I23) -> 0 | J24: =SUM(C24:F24)/H24*100 -> 80 | L24: المجموع | M24: =(C24+D24)/H24 -> 0.4 | N24: =E24/H24 -> 0.2 | O24: =((F24+G24-I24)/H24) -> 0.4
B25: مجموع الطلبة | C25: =D24+C24 -> 6 | E25: =E24 -> 3 | F25: =G24+F24 -> 6
O47: النموذج من إعداد: | Q47: ='التحليل العام للنتائج'!J3 -> مدرسة معاذ بن جبل للتعليم الأساسي (5-12)

Sheet الثاني عشر
B2: شعب الحادي عشر | C2: أ | D2: ب | E2: ج | F2: د | G2: هـ | H2: مجموع المقيدين | I2: عدد المنقطعين | J2: نسبة النجاح | L2: الصف الثاني عشر | M2: القوة | N2: التوسط | O2: الضعف | Q2: مستوى أداء الطلبة في: | T2: ='التحليل العام للنتائج'!Z3 -> التربية الإسلامية
B3: الثاني عشر/ 1 | C3: 1 | D3: 1 | E3: 1 | F3: 1 | G3: 1 | H3: =SUM(C3:G3) -> 5 | I3: 1 | J3: =IFERROR(SUM(C3:F3)/H3*100,"") -> 80 | L3: =B3 -> الثاني عشر/ 1 | M3: =IFERROR(((C3+D3)/H3),"") -> 0.4 | N3: =IFERROR((E3/H3),"") -> 0.2 | O3: =IFERROR(((F3+G3-I3)/H3),"") -> 0.2 | Q3: نسبة القوة إلى الضعف في الصف:
B4: الثاني عشر/ 2 | H4: =SUM(C4:G4) -> 0 | I4: 0 | J4: =IFERROR(SUM(C4:F4)/H4*100,"") | L4: =B4 -> الثاني عشر/ 2 | M4: =IFERROR(((C4+D4)/H4),"") | N4: =IFERROR((E4/H4),"") | O4: =IFERROR(((F4+G4-I4)/H4),"")
B5: الثاني عشر/ 3 | H5: =SUM(C5:G5) -> 0 | I5: 0 | J5: =IFERROR(SUM(C5:F5)/H5*100,"") | L5: =B5 -> الثاني عشر/ 3 | M5: =IFERROR(((C5+D5)/H5),"") | N5: =IFERROR((E5/H5),"") | O5: =IFERROR(((F5+G5-I5)/H5),"")
B6: الثاني عشر/ 4 | H6: =SUM(C6:G6) -> 0 | I6: 0 | J6: =IFERROR(SUM(C6:F6)/H6*100,"") | L6: =B6 -> الثاني عشر/ 4 | M6: =IFERROR(((C6+D6)/H6),"") | N6: =IFERROR((E6/H6),"") | O6: =IFERROR(((F6+G6-I6)/H6),"")
B7: الثاني عشر/ 5 | H7: =SUM(C7:G7) -> 0 | I7: 0 | J7: =IFERROR(SUM(C7:F7)/H7*100,"") | L7: =B7 -> الثاني عشر/ 5 | M7: =IFERROR(((C7+D7)/H7),"") | N7: =IFERROR((E7/H7),"") | O7: =IFERROR(((F7+G7-I7)/H7),"")
B8: الثاني عشر/ 6 | H8: =SUM(C8:G8) -> 0 | I8: 0 | J8: =IFERROR(SUM(C8:F8)/H8*100,"") | L8: =B8 -> الثاني عشر/ 6 | M8: =IFERROR(((C8+D8)/H8),"") | N8: =IFERROR((E8/H8),"") | O8: =IFERROR(((F8+G8-I8)/H8),"")
B9: الثاني عشر/ 7 | H9: =SUM(C9:G9) -> 0 | I9: 0 | J9: =IFERROR(SUM(C9:F9)/H9*100,"") | L9: =B9 -> الثاني عشر/ 7 | M9: =IFERROR(((C9+D9)/H9),"") | N9: =IFERROR((E9/H9),"") | O9: =IFERROR(((F9+G9-I9)/H9),"")
B10: الثاني عشر/ 8 | H10: =SUM(C10:G10) -> 0 | I10: 0 | J10: =IFERROR(SUM(C10:F10)/H10*100,"") | L10: =B10 -> الثاني عشر/ 8 | M10: =IFERROR(((C10+D10)/H10),"") | N10: =IFERROR((E10/H10),"") | O10: =IFERROR(((F10+G10-I10)/H10),"")
B11: الثاني عشر/ 9 | H11: =SUM(C11:G11) -> 0 | I11: 0 | J11: =IFERROR(SUM(C11:F11)/H11*100,"") | L11: =B11 -> الثاني عشر/ 9 | M11: =IFERROR(((C11+D11)/H11),"") | N11: =IFERROR((E11/H11),"") | O11: =IFERROR(((F11+G11-I11)/H11),"")
B12: الثاني عشر/ 10 | H12: =SUM(C12:G12) -> 0 | I12: 0 | J12: =IFERROR(SUM(C12:F12)/H12*100,"") | L12: =B12 -> الثاني عشر/ 10 | M12: =IFERROR(((C12+D12)/H12),"") | N12: =IFERROR((E12/H12),"") | O12: =IFERROR(((F12+G12-I12)/H12),"")
B13: الثاني عشر/ 11 | H13: =SUM(C13:G13) -> 0 | I13: 0 | J13: =IFERROR(SUM(C13:F13)/H13*100,"") | L13: =B13 -> الثاني عشر/ 11 | M13: =IFERROR(((C13+D13)/H13),"") | N13: =IFERROR((E13/H13),"") | O13: =IFERROR(((F13+G13-I13)/H13),"")
B14: الثاني عشر/ 12 | H14: =SUM(C14:G14) -> 0 | I14: 0 | J14: =IFERROR(SUM(C14:F14)/H14*100,"") | L14: =B14 -> الثاني عشر/ 12 | M14: =IFERROR(((C14+D14)/H14),"") | N14: =IFERROR((E14/H14),"") | O14: =IFERROR(((F14+G14-I14)/H14),"")
B15: الثاني عشر/ 13 | H15: =SUM(C15:G15) -> 0 | I15: 0 | J15: =IFERROR(SUM(C15:F15)/H15*100,"") | L15: =B15 -> الثاني عشر/ 13 | M15: =IFERROR(((C15+D15)/H15),"") | N15: =IFERROR((E15/H15),"") | O15: =IFERROR(((F15+G15-I15)/H15),"")
... B21: الثاني عشر/ 19 | H21: =SUM(C21:G21) -> 0 | I21: 0 | J21: =IFERROR(SUM(C21:F21)/H21*100,"") | L21: =B21 -> الثاني عشر/ 19 | M21: =IFERROR(((C21+D21)/H21),"") | N21: =IFERROR((E21/H21),"") | O21: =IFERROR(((F21+G21-I21)/H21),"")
B22: الثاني عشر/ 20 | C22: 1 | D22: 1 | E22: 1 | F22: 1 | G22: 1 | H22: =SUM(C22:G22) -> 5 | I22: 2 | J22: =IFERROR(SUM(C22:F22)/H22*100,"") -> 80 | L22: =B22 -> الثاني عشر/ 20 | M22: =IFERROR(((C22+D22)/H22),"") -> 0.4 | N22: =IFERROR((E22/H22),"") -> 0.2 | O22: =IFERROR(((F22+G22-I22)/H22),"") -> 0
B23: الثاني عشر/ 21 | C23: 1 | D23: 1 | E23: 1 | F23: 1 | G23: 1 | H23: =SUM(C23:G23) -> 5 | I23: 1 | J23: =IFERROR(SUM(C23:F23)/H23*100,"") -> 80 | L23: =B23 -> الثاني عشر/ 21 | M23: =IFERROR(((C23+D23)/H23),"") -> 0.4 | N23: =IFERROR((E23/H23),"") -> 0.2 | O23: =IFERROR(((F23+G23-I23)/H23),"") -> 0.2
B24: المجموع | C24: =SUM(C3:C23) -> 3 | D24: =SUM(D3:D23) -> 3 | E24: =SUM(E3:E23) -> 3 | F24: =SUM(F3:F23) -> 3 | G24: =SUM(G3:G23) -> 3 | H24: =SUM(H3:H23) -> 15 | I24: =SUM(I3:I23) -> 4 | J24: =SUM(C24:F24)/H24*100 -> 80 | L24: المجموع | M24: =(C24+D24)/H24 -> 0.4 | N24: =E24/H24 -> 0.2 | O24: =((F24+G24-I24)/H24) -> 0.13333333
B25: مجموع الطلبة | C25: =D24+C24 -> 6 | E25: =E24 -> 3 | F25: =G24+F24 -> 6
O47: النموذج من إعداد: | Q47: ='التحليل العام للنتائج'!J3 -> مدرسة معاذ بن جبل للتعليم الأساسي (5-12)
